BEGIN:VCALENDAR
VERSION:2.0
PRODID:-//SRMAP Events - ECPv6.15.11//NONSGML v1.0//EN
CALSCALE:GREGORIAN
METHOD:PUBLISH
X-ORIGINAL-URL:https://events.srmap.edu.in
X-WR-CALDESC:Events for SRMAP Events
REFRESH-INTERVAL;VALUE=DURATION:PT1H
X-Robots-Tag:noindex
X-PUBLISHED-TTL:PT1H
BEGIN:VTIMEZONE
TZID:Asia/Kolkata
BEGIN:STANDARD
TZOFFSETFROM:+0530
TZOFFSETTO:+0530
TZNAME:IST
DTSTART:20240101T000000
END:STANDARD
END:VTIMEZONE
BEGIN:VEVENT
DTSTART;TZID=Asia/Kolkata:20250416T100000
DTEND;TZID=Asia/Kolkata:20250416T150000
DTSTAMP:20260420T035048
CREATED:20250404T060500Z
LAST-MODIFIED:20250623T052027Z
UID:141599-1744797600-1744815600@events.srmap.edu.in
SUMMARY:Awareness Programme on NABL Accreditation and Benefits
DESCRIPTION:The Department of Civil Engineering\, in collaboration with the National Accreditation Board for Testing and Calibration Laboratories\, organises a National Workshop\, “Gunvatta Yatra – Awareness Programme on NABL Accreditations and its Benefits””\, on April 16\, 2025. \nNABL\, as an accreditation body\, complies with ISO/IEC 17011:2017 and is a full member (signatory) to the Asia Pacific Accreditation Cooperation (APAC) and International Laboratory Accreditation Cooperation (ILAC) Mutual Recognition Arrangement (MRA). \nNABL provides impartial\, third-party accreditation services to Conformity Assessment Bodies (CABs): \n\nTesting and Calibration Laboratories\nMedical Testing Laboratories\nProficiency Testing Providers (PTP)\nReference Material Producers (RMP)\n\nThe workshop will provide a comprehensive understanding about NABL\, the accreditation process and the benefits of NABL accreditation. \nParticipants from academia\, manufacturers/professionals from the industry\, government/regulators\, Top/middle management of laboratory are encouraged to register for the programme.
URL:https://events.srmap.edu.in/event/awareness-programme-on-nabl-accreditation-and-benefits/
CATEGORIES:Civil Engg events,Departmental Events,Events
END:VEVENT
BEGIN:VEVENT
DTSTART;TZID=Asia/Kolkata:20250416T100000
DTEND;TZID=Asia/Kolkata:20250416T173000
DTSTAMP:20260420T035048
CREATED:20250409T232700Z
LAST-MODIFIED:20250409T232700Z
UID:142102-1744797600-1744824600@events.srmap.edu.in
SUMMARY:Workshop on Lean Manufacturing in Automotive Industry
DESCRIPTION:The Department of Mechanical Engineering is organising a workshop\, “Atmanirbhar Bharat: Innovations in Lean Manufacturing for the Automotive Industry”\, on April 16\, 2025. \nThe workshop will feature two sessions by industry experts. \nSession 1: – Atmanirbhar Bharat & Manufacturing Excellence \nResource Person: Mr Narayan Vakil\, Ex. Vice President\, Spicer India Pvt Ltd – 40 Years of industrial experience\, mainly in Auto components\, Machine Tools\, forging and defence components. \nSession 2: – Emerging EV Technologies Transforming the Automotive Industry \nResource Person: Mr Sri Kumar Srinivasan\, Delivery Head Tata Elxsi Ltd\, Bangalore – Expertise in product design & development that includes medical\, automotive – 2W 4W\, automotive electrification\, energy storage systems\, consumer durables\, FMCG\, electrical and electronic products. \nLearn from the best on the emerging technologies that are transforming the automotive industry!
URL:https://events.srmap.edu.in/event/workshop-on-lean-manufacturing-in-automotive-industry/
LOCATION:Tiered Classroom\, 5th Floor\, Admin Block
CATEGORIES:Departmental Events,Events,Mechanical Engineering
END:VEVENT
END:VCALENDAR