BEGIN:VCALENDAR
VERSION:2.0
PRODID:-//SRMAP Events - ECPv6.15.11//NONSGML v1.0//EN
CALSCALE:GREGORIAN
METHOD:PUBLISH
X-WR-CALNAME:SRMAP Events
X-ORIGINAL-URL:https://events.srmap.edu.in
X-WR-CALDESC:Events for SRMAP Events
REFRESH-INTERVAL;VALUE=DURATION:PT1H
X-Robots-Tag:noindex
X-PUBLISHED-TTL:PT1H
BEGIN:VTIMEZONE
TZID:Asia/Kolkata
BEGIN:STANDARD
TZOFFSETFROM:+0530
TZOFFSETTO:+0530
TZNAME:IST
DTSTART:20240101T000000
END:STANDARD
END:VTIMEZONE
BEGIN:VEVENT
DTSTART;VALUE=DATE:20250516
DTEND;VALUE=DATE:20250522
DTSTAMP:20260420T020653
CREATED:20250515T225600Z
LAST-MODIFIED:20250515T225600Z
UID:141670-1747389600-1747821540@events.srmap.edu.in
SUMMARY:Workshop on Recent Advancements in RF and Antenna Technologies
DESCRIPTION:SRM University-AP\, Amaravati\, in collaboration with the Indian Institute of Information Technology (IIIT)\, Pune\, is set to host an ANRF-Sponsored Faculty Development Programme (FDP) on: “Recent Advancements in RF and Antenna Technologies“. \nA series of distinguished speakers will be contributing to the discussion on cutting-edge developments in the field of RF and Antenna Technologies. Dr Ramesh Kumar Sonkar\, Associate Professor in the Department of Electrical Engineering at IIT Guwahati\, will speak on Photonic Crystal-based Multiplexing Techniques for High-Speed Optical Communication. While Dr Amarjeet Singh\, Assistant Professor in the Department of ECE at NIT Warangal\, will explore Terahertz Antennas. \nDr Raj Kishore Kushwaha\, Assistant Professor in the ECE Department at VIT Vellore\, presents on Advanced Techniques in 3D Printed Antenna Design\, and Dr Arvind Kumar\, Assistant Professor in ECE at VNIT Nagpur\, introduces Filtering Antennas and discusses recent advancements in Substrate Integrated Waveguide (SIW)-Based Filtering Antennas. \nBridging the gap between electronics and healthcare\, Ms MVL Bhavani\, a Research Scholar at SRM University-AP\, Amaravati\, contributes with a talk on Breast Cancer Detecting Systems Based on Antenna Sensors and Dr Biswajit Mukherjee\, Associate Professor in the Department of Electronic Science at the University of Delhi\, focuses on Electromagnetic Components for Biomedical Applications. \nLastly\, Dr Arani Ali Khan\, Assistant Professor in the Department of Electrical Engineering at IIT Jodhpur\, discusses the Challenges of RF-Microwave Amplifier Design\, addressing critical issues in high-frequency circuit design. \nKey Topics Covered: \n\n3D Printed Antennas\nTerahertz Antennas\nFiltering Antennas\nRF-Microwave Amplifiers\nOptical Communication\nMicrowave Imaging\nAntennas for Biomedical Applications\n\nOrganisers for the programme include Dr Divya Chaturvedi\, Assistant Professor\, Department of ECE\, IIIT Pune and Dr Manjula Raja\, Assistant Professor\, Department of CSE\, SRM University-AP\, Amaravati. The programme is open to faculty\, researchers\, and students worldwide with free registration and provides E-certificates for full participation. \nClick on the link for Registration : https://forms.gle/koj8cE5NpJtEE34E8
URL:https://events.srmap.edu.in/event/workshop-on-recent-advancements-in-rf-and-antenna-technologies/
LOCATION:Zoom
CATEGORIES:CSE Events,Departmental Events,Events
END:VEVENT
END:VCALENDAR