BEGIN:VCALENDAR
VERSION:2.0
PRODID:-//SRMAP Events - ECPv6.15.11//NONSGML v1.0//EN
CALSCALE:GREGORIAN
METHOD:PUBLISH
X-WR-CALNAME:SRMAP Events
X-ORIGINAL-URL:https://events.srmap.edu.in
X-WR-CALDESC:Events for SRMAP Events
REFRESH-INTERVAL;VALUE=DURATION:PT1H
X-Robots-Tag:noindex
X-PUBLISHED-TTL:PT1H
BEGIN:VTIMEZONE
TZID:Asia/Kolkata
BEGIN:STANDARD
TZOFFSETFROM:+0530
TZOFFSETTO:+0530
TZNAME:IST
DTSTART:20240101T000000
END:STANDARD
END:VTIMEZONE
BEGIN:VEVENT
DTSTART;TZID=Asia/Kolkata:20250806T103000
DTEND;TZID=Asia/Kolkata:20250806T123000
DTSTAMP:20260419T213002
CREATED:20250807T082441Z
LAST-MODIFIED:20250807T082441Z
UID:144537-1754476200-1754483400@events.srmap.edu.in
SUMMARY:Invited Talk on Safety Standards for Railway Signaling
DESCRIPTION:The Department of Electronics and Communications Engineering along with Efftronics Systems Pvt Ltd. is organising a Departmental Invited Talk on “Functional Safety Standards for Railway Signaling” by Dr P Raja Goundan\, Former General Manager Indian Railways and Expert Signalling\, Train control and Telecommunications\, Hyderabad. The talk will be beneficial for the research scholars\, M.Tech. students\, and undergraduate students of the Co-teaching for the Signals and Systems course. \nJoin the talk for an insightful session.
URL:https://events.srmap.edu.in/event/invited-talk-on-safety-standards-for-railway-signaling/
LOCATION:Theatre\, SR Block
CATEGORIES:Departmental Events,ECE,Events
ATTACH;FMTTYPE=image/png:https://events.srmap.edu.in/wp-content/uploads/2025/08/ECE-invited-talk-1024x576-1.png
END:VEVENT
END:VCALENDAR