BEGIN:VCALENDAR
VERSION:2.0
PRODID:-//SRMAP Events - ECPv6.15.11//NONSGML v1.0//EN
CALSCALE:GREGORIAN
METHOD:PUBLISH
X-ORIGINAL-URL:https://events.srmap.edu.in
X-WR-CALDESC:Events for SRMAP Events
REFRESH-INTERVAL;VALUE=DURATION:PT1H
X-Robots-Tag:noindex
X-PUBLISHED-TTL:PT1H
BEGIN:VTIMEZONE
TZID:Asia/Kolkata
BEGIN:STANDARD
TZOFFSETFROM:+0530
TZOFFSETTO:+0530
TZNAME:IST
DTSTART:20240101T000000
END:STANDARD
END:VTIMEZONE
BEGIN:VEVENT
DTSTART;TZID=Asia/Kolkata:20250813T150000
DTEND;TZID=Asia/Kolkata:20250813T160000
DTSTAMP:20260419T213302
CREATED:20250828T154626Z
LAST-MODIFIED:20250828T154626Z
UID:144551-1755097200-1755100800@events.srmap.edu.in
SUMMARY:Colloquium on The Charm and Beauty of Particles
DESCRIPTION:The Department of Physics is organising a colloquium on the topic “The Charm and Beauty of Flavour” on August 13\, 2025. Distinguished academician\, Prof. Uma Sankar\, Department of Physics\, IIT Bombay\, Mumbai will deliver the comprehensive session. \nAbstract \nThe nature is filled with a bewildering variety of objects and materials. Over the centuries\, the chemists have built a simplified picture\, in which all the objects are made up of about 90 elements. During the past century\, the physicists tried to simplify this picture even further. But\, in this process\, they have encountered newer and stranger particles\, which were never even thought of before. I will describe this new picture\, built by the physicists over the last century which is built on charm and beauty. \nDate: August 13\, 2025 \nTime: 3.00 PM – 4.00 PM \nVenue: V-201\, Vikram Sarabhai Block \nJoin the colloquium and gain a brand-new perspective about the world around you!
URL:https://events.srmap.edu.in/event/colloquium-on-the-charm-and-beauty-of-particles/
LOCATION:V-201\, Vikram Sarabhai Block
CATEGORIES:Departmental Events,Events
ATTACH;FMTTYPE=image/png:https://events.srmap.edu.in/wp-content/uploads/2025/08/Colloquium-1-1024x576-1.png
END:VEVENT
END:VCALENDAR