BEGIN:VCALENDAR
VERSION:2.0
PRODID:-//SRMAP Events - ECPv6.15.11//NONSGML v1.0//EN
CALSCALE:GREGORIAN
METHOD:PUBLISH
X-WR-CALNAME:SRMAP Events
X-ORIGINAL-URL:https://events.srmap.edu.in
X-WR-CALDESC:Events for SRMAP Events
REFRESH-INTERVAL;VALUE=DURATION:PT1H
X-Robots-Tag:noindex
X-PUBLISHED-TTL:PT1H
BEGIN:VTIMEZONE
TZID:Asia/Kolkata
BEGIN:STANDARD
TZOFFSETFROM:+0530
TZOFFSETTO:+0530
TZNAME:IST
DTSTART:20240101T000000
END:STANDARD
END:VTIMEZONE
BEGIN:VEVENT
DTSTART;TZID=Asia/Kolkata:20251208T100000
DTEND;TZID=Asia/Kolkata:20251220T170000
DTSTAMP:20260421T151453
CREATED:20251206T072729Z
LAST-MODIFIED:20251206T091535Z
UID:145055-1765188000-1766250000@events.srmap.edu.in
SUMMARY:Study in India: International Outreach Visit to Zimbabwe and Zambia
DESCRIPTION:As part of our outreach initiative\, The Directorate of International Relations & Higher Studies\, SRM University-AP is participating at the Consultant Meet in Zimbabwe and Zambia. \nOur General Manger – International Admissions\, Mr Vikas Bhardwaj will be representing SRM University-AP at the Meet. Mr Bhardwaj will visit Zambia from Dec 08 – 12\, 2025 and Zimbabwe from Dec 13 – 20\, 2025. \nThe Consultant Meet is a remarkable opportunity for the university to enhance international admissions\, global recognition in the international market and networking and collaborative prospects.
URL:https://events.srmap.edu.in/event/study-in-india-international-outreach-visit-to-zimbabwe-and-zambia/
CATEGORIES:Departmental Events,Events,IR-Events
END:VEVENT
BEGIN:VEVENT
DTSTART;TZID=Asia/Kolkata:20251210T100000
DTEND;TZID=Asia/Kolkata:20251213T170000
DTSTAMP:20260421T151453
CREATED:20251206T073227Z
LAST-MODIFIED:20251206T091410Z
UID:145059-1765360800-1765645200@events.srmap.edu.in
SUMMARY:Study in India: SRM AP Participates in Education Fair in Qatar
DESCRIPTION:As part of our outreach initiative\, The Directorate of International Relations & Higher Studies\, SRM University-AP is participating in the Study in India Expo at Qatar on December 10 – 13\, 2025. \nOur admission counsellor\, Ms Bhavana Deepa Mani will be representing the SRM University-AP at the Study in India Expo. \nThe university has an excellent opportunity to improve international admissions\, global visibility in the global market\, and networking and collaborative opportunities through the Education Expo.
URL:https://events.srmap.edu.in/event/study-in-india-srm-ap-participates-in-education-fair-in-qatar/
CATEGORIES:Departmental Events,Events,IR-Events
END:VEVENT
BEGIN:VEVENT
DTSTART;TZID=Asia/Kolkata:20251211T093000
DTEND;TZID=Asia/Kolkata:20251211T153000
DTSTAMP:20260421T151453
CREATED:20251210T113959Z
LAST-MODIFIED:20251210T113959Z
UID:145082-1765445400-1765467000@events.srmap.edu.in
SUMMARY:National Mathematics Day 2025 Celebrations
DESCRIPTION:The Department of Mathematics has organised to celebrate National Mathematics Day on December 11\, 2025. On this occasion\, the department will conduct two talks\, fun and constructive math activities for school students from neighbouring schools. \nThe event will feature two lectures: \nSpeaker: Dr Kalyan Banerjee\, Assistant Professor\, Dept. of Mathematics \nTitle of the Talk: Partition functions and Ramanujan’s work \nTime: 10:00 AM – 10:45 AM \n  \nSpeaker: Prof. Jayasree Subramanian\, Associate Professor\, Dept. of Mathematics \nTitle of the talk: “Maryam Mirzakhani: A Mathematician and a Woman of Many Firsts” \nTime: 12:00 PM – 12:45 PM
URL:https://events.srmap.edu.in/event/national-mathematics-day-2025-celebrations/
LOCATION:Tiered Classroom\, 5th Floor\, Admin Block
CATEGORIES:Departmental Events,Events,Homepage Events,Math Events
ATTACH;FMTTYPE=image/png:https://events.srmap.edu.in/wp-content/uploads/2025/12/Mathematics-1-min.png
END:VEVENT
END:VCALENDAR