BEGIN:VCALENDAR
VERSION:2.0
PRODID:-//SRMAP Events - ECPv6.15.11//NONSGML v1.0//EN
CALSCALE:GREGORIAN
METHOD:PUBLISH
X-ORIGINAL-URL:https://events.srmap.edu.in
X-WR-CALDESC:Events for SRMAP Events
REFRESH-INTERVAL;VALUE=DURATION:PT1H
X-Robots-Tag:noindex
X-PUBLISHED-TTL:PT1H
BEGIN:VTIMEZONE
TZID:Asia/Kolkata
BEGIN:STANDARD
TZOFFSETFROM:+0530
TZOFFSETTO:+0530
TZNAME:IST
DTSTART:20240101T000000
END:STANDARD
END:VTIMEZONE
BEGIN:VEVENT
DTSTART;VALUE=DATE:20251228
DTEND;VALUE=DATE:20251231
DTSTAMP:20260421T165836
CREATED:20251218T100108Z
LAST-MODIFIED:20251218T100330Z
UID:145118-1766880000-1767139199@events.srmap.edu.in
SUMMARY:SRM AP to Host the Golden Jubilee Edition of the All India Sociological Conference
DESCRIPTION:SRM University–AP is set to host the golden jubilee edition of the All India Sociological Conference (AISC)  titled\, Mobilities and Inequalities; Shifting Contexts and Changing Paradigms\, organised by the Department of Sociology and Anthropology\, Easwari School of Liberal Arts and Indian Sociological Conference (ISS). The three-day conference will bring together eminent sociologists\, academicians\, policymakers\, and research scholars to engage in critical discussions\, paper presentations\, plenary sessions\, and panel discussions on contemporary social issues.  \nThe conference aligns with the university’s vision of fostering critical thinking\, research excellence\, and socially engaged scholarship. In addition to academic sessions\, the conference will facilitate special sessions and commemorative events highlighting the evolution of sociology in India. \nThe 50th All India Sociological Conference is expected to be a vibrant confluence of ideas\, reinforcing the role of sociology in understanding complex social realities and contributing to informed public discourse. The event underscores the varsity’s growing prominence as a hub for national-level academic conferences and its commitment to advancing the social sciences in India.
URL:https://events.srmap.edu.in/event/srm-ap-to-host-the-golden-jubilee-edition-of-the-all-india-sociological-conference/
LOCATION:APJ Abdul Kalam Auditorium
CATEGORIES:Departmental Events,Events,Homepage Events
ATTACH;FMTTYPE=image/jpeg:https://events.srmap.edu.in/wp-content/uploads/2025/12/Display-banner.jpg
END:VEVENT
END:VCALENDAR