BEGIN:VCALENDAR
VERSION:2.0
PRODID:-//SRMAP Events - ECPv6.15.11//NONSGML v1.0//EN
CALSCALE:GREGORIAN
METHOD:PUBLISH
X-WR-CALNAME:SRMAP Events
X-ORIGINAL-URL:https://events.srmap.edu.in
X-WR-CALDESC:Events for SRMAP Events
REFRESH-INTERVAL;VALUE=DURATION:PT1H
X-Robots-Tag:noindex
X-PUBLISHED-TTL:PT1H
BEGIN:VTIMEZONE
TZID:Asia/Kolkata
BEGIN:STANDARD
TZOFFSETFROM:+0530
TZOFFSETTO:+0530
TZNAME:IST
DTSTART:20250101T000000
END:STANDARD
END:VTIMEZONE
BEGIN:VEVENT
DTSTART;TZID=Asia/Kolkata:20260121T090000
DTEND;TZID=Asia/Kolkata:20260123T160000
DTSTAMP:20260421T134239
CREATED:20260113T102231Z
LAST-MODIFIED:20260113T102534Z
UID:145187-1768986000-1769184000@events.srmap.edu.in
SUMMARY:India–UK AMR Network Meeting
DESCRIPTION:The Department of Biological Sciences is organising the India–UK AMR Network Meeting on January 21-23\, 2026\, along with University of Leeds\, representing a major step towards strengthening cross-country\, One Health–aligned AMR research. Funded by the Academy of Medical Sciences\, the India–UK AMR Network brings together leading researchers\, clinicians\, veterinarians\, and public health experts from India and the UK to build a collaborative network focused on understanding antimicrobial use and resistance in apparently healthy populations across India. \nSignificance of the Meeting \nAntimicrobial resistance is a critical global health challenge\, with community-level transmission increasingly recognised as a key driver. This meeting is significant in shifting the focus beyond clinical settings to healthy populations\, offering new insights into early AMR emergence and spread. By fostering long-term India–UK collaboration and embedding a One Health perspective\, the network aims to generate evidence that can inform national and international AMR strategies\, capacity building\, and equitable global health solutions. \nKey discussions will focus on:-\n– Antimicrobial use and resistance in community-based\, healthy populations\n– Integrating human\, animal\, and environmental perspectives (One Health approach)\n– Genomic and microbiome-based surveillance of AMR in low- and middle-income settings\n– Challenges and opportunities in longitudinal and population-scale AMR studies\n– Translating scientific evidence into public health policy and practice\n– Building sustainable India–UK research partnerships and infrastructure\n– Identifying additional areas for collaboration\, networking\, and capacity building across disciplines and institutions \nThe meeting features an interdisciplinary panel of invited experts from leading institutions across India and the UK\, including: \n-University of Leeds\, UK\n-Bose Institute and University of Burdwan\, West Bengal\n-IIT Kanpur\n-CSIR–National Environmental Engineering Research Institute (NEERI)\, Nagpur\n-Jawaharlal Nehru University (JNU)\, Delhi\n-SRM University-AP and NTR College of Veterinary Science\n-Cancer Institute (WIA)\, Chennai\n-O.P. Jindal Global University \nSpeakers represent expertise spanning microbiology\, AMR genomics\, public health\, veterinary science\, environmental health\, and social medicine. \nExpected Outcomes \n\nEstablishment of a structured India–UK AMR research network\nIdentification of shared research priorities and funding opportunities\nDevelopment of collaborative pilot studies and multi-centre proposals\nKnowledge exchange on best practices for AMR surveillance in community settings\nStrengthened links between academic research\, public health\, and policies
URL:https://events.srmap.edu.in/event/india-uk-amr-network-meeting/
CATEGORIES:Biology Events,Departmental Events,Events,Homepage Events
ATTACH;FMTTYPE=image/png:https://events.srmap.edu.in/wp-content/uploads/2026/01/AMR.png
END:VEVENT
BEGIN:VEVENT
DTSTART;VALUE=DATE:20260122
DTEND;VALUE=DATE:20260125
DTSTAMP:20260421T134239
CREATED:20260107T061713Z
LAST-MODIFIED:20260107T090910Z
UID:145174-1769040000-1769299199@events.srmap.edu.in
SUMMARY:SRM AP Central Library Hosts Book Exhibition
DESCRIPTION:The University Central Library in collaboration with Paramount Book Distribution\, Visakhapatnam is organising a book exhibition from January 22- 24\, 2026 at the Atrium\, Vikram Sarabhai Block. \nThe exhibition is a splendid opportunity for avid readers and bibliophiles to discover new authors and titles\, browse books from a wide array of genres and publications and expand their literary horizons. \nThe exhibition will see books from various genres\, along with subject related reference texts from notable publications catering to a diverse range of interests and reading levels.
URL:https://events.srmap.edu.in/event/srm-ap-central-library-hosts-book-exhibition/
LOCATION:Atrium\, Vikram Sarabhai Block.
CATEGORIES:Departmental Events,Events,Homepage Events,University Event
ATTACH;FMTTYPE=image/png:https://events.srmap.edu.in/wp-content/uploads/2026/01/Book-Exhibition-resized.png
END:VEVENT
BEGIN:VEVENT
DTSTART;TZID=Asia/Kolkata:20260123T090000
DTEND;TZID=Asia/Kolkata:20260125T170000
DTSTAMP:20260421T134239
CREATED:20260122T100657Z
LAST-MODIFIED:20260122T100657Z
UID:145218-1769158800-1769360400@events.srmap.edu.in
SUMMARY:SWEEYAM 2026: Developers Conference
DESCRIPTION:The Department of Computer Science and Engineering is hosting SWEEYAM 2026 a Developers Conference\, Hackathon and AI workshop in collaboration with the Coding Club and Directorate of Alumni Relations. \nOn January 23-25\, 2026\, this 36-hour industrial build challenge brings together developers\, innovators\, and problem-solvers to work on real-world problem statements through hands-on coding\, expert talks\, and professional workshops. The conference will also feature inspiring sessions by renowned industry leaders and research experts on cutting-edge technologies\, research\, and real-world applications. \nWith a prize pool of ₹1\,00\,000+\, participants can form teams of 1-5 members and take part in competitions that take ideas from concept to execution. \nSWEEYAM 2026 provides opportunities for industrial mentorship\, certification\, and meaningful networking\, and is designed to deliver both learning and impact. \nConnect\, learn\, and transform ideas into impactful solutions.
URL:https://events.srmap.edu.in/event/sweeyam-2026-developers-conference/
LOCATION:APJ Abdul Kalam Auditorium
CATEGORIES:Alumni Relations,CSE Events,Departmental Events,Events,Homepage Events
ATTACH;FMTTYPE=image/png:https://events.srmap.edu.in/wp-content/uploads/2026/01/Home-page-image-1-2.png
END:VEVENT
END:VCALENDAR