BEGIN:VCALENDAR
VERSION:2.0
PRODID:-//SRMAP Events - ECPv6.15.11//NONSGML v1.0//EN
CALSCALE:GREGORIAN
METHOD:PUBLISH
X-WR-CALNAME:SRMAP Events
X-ORIGINAL-URL:https://events.srmap.edu.in
X-WR-CALDESC:Events for SRMAP Events
REFRESH-INTERVAL;VALUE=DURATION:PT1H
X-Robots-Tag:noindex
X-PUBLISHED-TTL:PT1H
BEGIN:VTIMEZONE
TZID:Asia/Kolkata
BEGIN:STANDARD
TZOFFSETFROM:+0530
TZOFFSETTO:+0530
TZNAME:IST
DTSTART:20230101T000000
END:STANDARD
END:VTIMEZONE
BEGIN:VEVENT
DTSTART;VALUE=DATE:20240418
DTEND;VALUE=DATE:20240421
DTSTAMP:20260421T071525
CREATED:20240415T050700Z
LAST-MODIFIED:20250529T064716Z
UID:141865-1713398400-1713657599@events.srmap.edu.in
SUMMARY:SRM University-AP to Host International Conference on New Media and its Publics in India
DESCRIPTION:The Department of Media Studies and Department of Liberal Arts are proud to present “A Two-Day International Conference on New Media and Its Publics in India\,” scheduled for April 18-19\, 2024. This eagerly anticipated event promises to be a dynamic exploration of the evolving landscape of new media and its influence on the diverse public in India. \nThe conference will feature a rich tapestry of sessions\, round table discussions\, enlightening presentations\, and invaluable networking opportunities\, providing a platform for scholars\, practitioners\, and enthusiasts to engage in stimulating dialogue and exchange perspectives on the intersection of new media and its impact on the public sphere in India. \nFrom digital storytelling to social media dynamics\, the event will delve into emerging trends\, challenges\, and opportunities within the realm of new media\, offering participants a comprehensive understanding of its multifaceted influence on the Indian publics. \nThe conference aims to shed light on the democratisation of information\, the role of new media in shaping public opinion\, and the implications of digital communication for various societal sectors. By bringing together diverse voices and perspectives\, the event seeks to foster a deeper understanding of the complexities and nuances of new media and its role in shaping the Indian public discourse. \nDon’t miss this exceptional opportunity to be part of a thought-provoking discourse that is set to shape the future of new media in India!
URL:https://events.srmap.edu.in/event/srm-university-ap-to-host-international-conference-on-new-media-and-its-publics-in-india/
LOCATION:Mini Auditorium
CATEGORIES:Departmental Events,Events,Liberal Arts Events,Media Studies
END:VEVENT
END:VCALENDAR