BEGIN:VCALENDAR
VERSION:2.0
PRODID:-//SRMAP Events - ECPv6.15.11//NONSGML v1.0//EN
CALSCALE:GREGORIAN
METHOD:PUBLISH
X-WR-CALNAME:SRMAP Events
X-ORIGINAL-URL:https://events.srmap.edu.in
X-WR-CALDESC:Events for SRMAP Events
REFRESH-INTERVAL;VALUE=DURATION:PT1H
X-Robots-Tag:noindex
X-PUBLISHED-TTL:PT1H
BEGIN:VTIMEZONE
TZID:Asia/Kolkata
BEGIN:STANDARD
TZOFFSETFROM:+0530
TZOFFSETTO:+0530
TZNAME:IST
DTSTART:20220101T000000
END:STANDARD
END:VTIMEZONE
BEGIN:VEVENT
DTSTART;TZID=Asia/Kolkata:20230216T153000
DTEND;TZID=Asia/Kolkata:20230216T173000
DTSTAMP:20260422T084600
CREATED:20230214T060600Z
LAST-MODIFIED:20250528T084432Z
UID:142258-1676561400-1676568600@events.srmap.edu.in
SUMMARY:Know your Career Prospects and Study Abroad
DESCRIPTION:Are you aspiring for a successful career but confused about the myriad possibilities to achieve it? Are you planning to crack GATE/CAT and other competitive exams? The Directorate of International Relations and Higher Studies organises an invited talk on “Career Opportunities after Graduation” on February 16\, 2023. The session will be addressed by Adari Sandeep\, who passed the test with flying colours with an impressive AIR rank in the GATE exam. This Career Guidance Programme is aimed at students aspiring to crack the toughest exams in India and secure admissions to their dream universities. \nJoin the session and hear more about the learning strategies and methods to ace the top competitive exams and enhance your chances of studying abroad!
URL:https://events.srmap.edu.in/event/know-your-career-prospects-and-study-abroad/
LOCATION:New Academic Block\, Second floor\, Classroom S205
CATEGORIES:Departmental News,Events,International Relations,IR-Events
END:VEVENT
BEGIN:VEVENT
DTSTART;TZID=Asia/Kolkata:20230220T100000
DTEND;TZID=Asia/Kolkata:20230220T120000
DTSTAMP:20260422T084600
CREATED:20230217T010300Z
LAST-MODIFIED:20230217T010300Z
UID:142261-1676887200-1676894400@events.srmap.edu.in
SUMMARY:A Constructive Exchange with US Delegates
DESCRIPTION:International collaborations bring world-class exposure to notable expertise in the research and academic community and play a pivotal role in establishing SRM university-AP at the forefront of the tertiary education sector. The Directorate of International Relations and Higher Studies is organising the US delegate visit on February 20\, 2022. Mr Mark Forehand\, Senior Assistant Dean for Graduate Enrollment; Dr Benjamin Klein\, Professor and Chair\, Department of Electrical and Computer Engineering; and Dr Sumit Chakravarty\, Associate Professor\, Department of Electrical Engineering from the Kennesaw State University\, USA are the honorary delegates visiting the campus. The session aims to certify an interactive and insightful exchange between the visiting delegates and the students and faculty of the institution. \nAbout the Delegates \nMr Mark Forehand is the Senior Assistant Dean for Graduate Enrollment Management\, The Graduate College – Kennesaw State University\, USA. A proactive leader\, Mr. Mark Forehand is a results-focused professional with cross speciality strengths in Education\, Leadership and Analysis. Prior to his current role\, Mr Forehand served as the Assistant Dean in the Graduate College\, Director of International Student and Scholar Services\, Interim Director of the IEP\, and Director of Academic English Programs in the Division of Global Affairs. He also serves as an Interim Executive Director for the Siegel Institute. His expertise lies in being proficient in leveraging processing and workflow knowledge to promote growth regardless of the industry. Mr Forehand is adept at managing concurrent objectives to promote efficiency and influence positive outcomes. \nDr Benjamin Klein is the Professor and Chair\, Department of Electrical and Computer Engineering\, Kennesaw State University\, Southern Polytechnic College of Engineering and Engineering Technology. A renowned academician and researcher\, Dr Klein received his PhD in Electrical Engineering from the University of Illinois with his doctoral dissertation on the theory and modelling of vertical-cavity surface-emitting lasers (VCSELs. Dr Klein’s research interests involve the theory\, modelling\, and design of semiconductor electronic and optoelectronic materials and devices. He creates and utilizes numerical simulation programs to provide insight into the nano-scale physics of semiconductors. His most recent project is the modelling of multilayered III nitride samples in atom probe tomography (APT) measurement systems to assist in interpreting the measurement data. \nDr Sumit Chakravarty currently works as an Associate Professor of Electrical Engineering at Kennesaw State University Lawrenceville\, Georgia\, United States. His area of expertise is in Wireless Communications\, AI and Signal Processing and has worked as a scientist in the industry wherein he has also worked on other sensor modalities commonly used in remote sensing like Multispectral\, Lidar and SAR. This includes working with a cross-disciplinary team comprising specialists from industry\, government bodies like NASA\, Goddard and academia like the University of Maryland. His other industrial experience in engineering and research includes working in various roles such as Instrumentation Engineer for Triune Projects\, Research Intern at Siemens CAD and Apex Eclipse Communications\, Scientist for SGT Inc and Lead Scientist for Honeywell Research (Automatic Control Solutions-Advanced Technology Labs). \nJoin the talk for a productive exploration of opportunities abroad for upskilling your academic and research prowess!
URL:https://events.srmap.edu.in/event/a-constructive-exchange-with-us-delegates/
LOCATION:Tiered Classroom\, 5th Floor\, Admin Block
CATEGORIES:Departmental News,Events,IR-Events
END:VEVENT
BEGIN:VEVENT
DTSTART;TZID=Asia/Kolkata:20230221T110000
DTEND;TZID=Asia/Kolkata:20230221T160000
DTSTAMP:20260422T084600
CREATED:20230220T000400Z
LAST-MODIFIED:20230220T000400Z
UID:142262-1676977200-1676995200@events.srmap.edu.in
SUMMARY:Manifest your Career with the Study Abroad Education Fair!
DESCRIPTION:Every graduate aspires for a study-abroad experience at their dream university to enhance their career opportunities and to attract prospective employment. The Directorate of International Relations and Higher Studies is organising a constructive Study Abroad Education Fair on February 21\, 2023\, providing career awareness on higher studies opportunities and programmes available at global institutes of repute. Students will be directly able to interact with representatives from renowned universities in the US\, UK\, Australia\, and Europe and plan their future correspondingly. \nArizona State University\, Simmons University\, Pace University\, University of Connecticut\, Edge Hill University\, Loughborough University\, University of Brighton\, University Of Dundee\, University of Roehampton\, Coventry University\, Nottingham Trent University\, University of Liverpool\, University of Reading\, University of Kent\, Falmouth University\, Duke University\, Western New England\, Rowan University\, University of Maryland Baltimore County\, Seattle Pacific University\, Stevens Institute of Technology are the universities participating at the Education Fair. \nDo not miss out on this grand opportunity to furnish your study-abroad experience! \nTake one small step to manifest your dream career starting now!
URL:https://events.srmap.edu.in/event/manifest-your-career-with-the-study-abroad-education-fair/
LOCATION:Tiered Classroom\, 5th Floor\, Admin Block
CATEGORIES:Departmental News,Events,IR-Events
END:VEVENT
END:VCALENDAR