BEGIN:VCALENDAR
VERSION:2.0
PRODID:-//SRMAP Events - ECPv6.15.11//NONSGML v1.0//EN
CALSCALE:GREGORIAN
METHOD:PUBLISH
X-WR-CALNAME:SRMAP Events
X-ORIGINAL-URL:https://events.srmap.edu.in
X-WR-CALDESC:Events for SRMAP Events
REFRESH-INTERVAL;VALUE=DURATION:PT1H
X-Robots-Tag:noindex
X-PUBLISHED-TTL:PT1H
BEGIN:VTIMEZONE
TZID:Asia/Kolkata
BEGIN:STANDARD
TZOFFSETFROM:+0530
TZOFFSETTO:+0530
TZNAME:IST
DTSTART:20230101T000000
END:STANDARD
END:VTIMEZONE
BEGIN:VEVENT
DTSTART;TZID=Asia/Kolkata:20240509T100000
DTEND;TZID=Asia/Kolkata:20240510T170000
DTSTAMP:20260421T061759
CREATED:20240506T060500Z
LAST-MODIFIED:20240506T060500Z
UID:142294-1715248800-1715360400@events.srmap.edu.in
SUMMARY:Fly High to Your Dream Career: Mega Passport Drive at SRM AP
DESCRIPTION:As a global institute\, SRM University-AP provides a myriad of opportunities for students to travel abroad and seek knowledge at reputed universities\, fostering them with the international edge they need as ambassadors of tomorrow. Furnish yourself with a passport at the “Mega Passport Drive” the Directorate of International Relations & Higher Studies organised on May 09 and 10\, 2024. \nIt is essential for all the students to have their passports ready to participate in Global Immersion Programmes\, Internships & other Abroad Opportunities! Avail this great opportunity to equip yourself with a passport and begin your journey of infinite learning. \nIf you want to apply for a New Issue or Re-Issue of a passport\, please fill out the form: https://forms.gle/KHrvAVLVQkJDbNRo8
URL:https://events.srmap.edu.in/event/fly-high-to-your-dream-career-mega-passport-drive-at-srm-ap/
CATEGORIES:Departmental News,Events,IR-Events
END:VEVENT
END:VCALENDAR