BEGIN:VCALENDAR
VERSION:2.0
PRODID:-//SRMAP Events - ECPv6.15.11//NONSGML v1.0//EN
CALSCALE:GREGORIAN
METHOD:PUBLISH
X-WR-CALNAME:SRMAP Events
X-ORIGINAL-URL:https://events.srmap.edu.in
X-WR-CALDESC:Events for SRMAP Events
REFRESH-INTERVAL;VALUE=DURATION:PT1H
X-Robots-Tag:noindex
X-PUBLISHED-TTL:PT1H
BEGIN:VTIMEZONE
TZID:Asia/Kolkata
BEGIN:STANDARD
TZOFFSETFROM:+0530
TZOFFSETTO:+0530
TZNAME:IST
DTSTART:20240101T000000
END:STANDARD
END:VTIMEZONE
BEGIN:VEVENT
DTSTART;TZID=Asia/Kolkata:20251128T140000
DTEND;TZID=Asia/Kolkata:20251128T160000
DTSTAMP:20260422T153124
CREATED:20251127T113533Z
LAST-MODIFIED:20251127T114250Z
UID:145026-1764338400-1764345600@events.srmap.edu.in
SUMMARY:Media Studies Guest Lecture on Numbers to Narrative: Telling Stories with Data
DESCRIPTION:The Department of Media Studies is organising a Guest Lecture titled\, Numbers to Narrative: Telling Stories with Data. The guest lecture will feature Ms Areena Arora\, Data Journalist & Editorial Coder\, The Hindu and Mr Dhrumil Mehta is an Associate Professor of Journalism at Columbia University and the Assistant Director of the Tow Center for Digital Journalism. The primary objective of the lecture is to intersect data and storytelling by showcasing how data can be transformed into compelling narratives \nAbout the Speakers: \nMr Dhrumil Mehta:\nDhrumil Mehta is an Associate Professor of Journalism at Columbia University and the Assistant Director of the Tow Center for Digital Journalism. He teaches courses in Columbia’s three-semester Data Journalism M.S. program and is also a Visiting Associate Professor in Public Policy at the Harvard Kennedy School.\nPreviously\, Dhrumil was a Database Journalist at FiveThirtyEight\, where he built databases\, scrapers\, bots\, and interactive graphics alongside reporting and writing about elections\, public opinion and media. \nMs Areena Arora:\nMs Areena Arora holds a Master of Science in Data Journalism from Columbia University’s Graduate School of Journalism and a Bachelor of Arts in Journalism from Ohio Wesleyan University. Currently\, she is serving as an Editorial Coder at The Hindu in Chennai. Ms Areena previously worked as a Data & Investigative Journalist for the Knoxville News Sentinel\, where she won first place for education reporting in Tennessee in 2022.\nShe has also worked as Senior Sub-Editor at Glance and played a pivotal role in leading a global team of editors to present news to millions. She has also held positions at Reuters\, Idaho Press-Tribune\, and has taken on leadership roles in various university programmes\, including serving as Head Student Coordinator for Ohio Wesleyan University’s International Student Ambassador Programme. \nMs Areena’s cross-disciplinary skills in data journalism\, editorial judgment\, and a commitment to community engagement make her a prominent figure in the field of journalism. You can explore her work at The Transcript\, where she also took on managing editor responsibilities\, demonstrating her talent in both reporting and design. \nTheir expertise will offer an insightful experience to all the participants.\nWe look forward to your active participation.
URL:https://events.srmap.edu.in/event/media-studies-guest-lecture-on-numbers-to-narrative-telling-stories-with-data/
LOCATION:C-503\, C V Raman Block
CATEGORIES:Departmental News,Events,Homepage Events,Media Studies
ATTACH;FMTTYPE=image/png:https://events.srmap.edu.in/wp-content/uploads/2025/11/Media-Studies.png
END:VEVENT
BEGIN:VEVENT
DTSTART;TZID=Asia/Kolkata:20260122T110000
DTEND;TZID=Asia/Kolkata:20260122T130000
DTSTAMP:20260422T153124
CREATED:20260121T093620Z
LAST-MODIFIED:20260121T093929Z
UID:145213-1769079600-1769086800@events.srmap.edu.in
SUMMARY:Success Mantra for Managers
DESCRIPTION:Paari School of Business (PSB) is organising the Success Mantra for Managers on the theme “Skilling and Upskilling in the Age of AI” on January 22\, 2026. \nMr P G Srinivas – Country Head- India & Int Buiss Dev\, Magnetic Technologies LLC\, Dr Sreedhar Nandiraju – AVP\, Reliance Jio Hyderabab and Mr Kadambala Balajee Rao\, SVP- People Solutions\, Lockton will be the panellists for the programme with Dr Agna Fernandez\, Assoc VP\, NSE Academy acting as the moderator. \nJoin the event to learn the evolving trends in the business landscape!
URL:https://events.srmap.edu.in/event/success-mantra-for-managers/
LOCATION:APJ Abdul Kalam Auditorium
CATEGORIES:Departmental News,Events,Homepage Events,Management Events
ATTACH;FMTTYPE=image/png:https://events.srmap.edu.in/wp-content/uploads/2026/01/Home-page-image-1-1.png
END:VEVENT
END:VCALENDAR