BEGIN:VCALENDAR
VERSION:2.0
PRODID:-//SRMAP Events - ECPv6.15.11//NONSGML v1.0//EN
CALSCALE:GREGORIAN
METHOD:PUBLISH
X-ORIGINAL-URL:https://events.srmap.edu.in
X-WR-CALDESC:Events for SRMAP Events
REFRESH-INTERVAL;VALUE=DURATION:PT1H
X-Robots-Tag:noindex
X-PUBLISHED-TTL:PT1H
BEGIN:VTIMEZONE
TZID:Asia/Kolkata
BEGIN:STANDARD
TZOFFSETFROM:+0530
TZOFFSETTO:+0530
TZNAME:IST
DTSTART:20240101T000000
END:STANDARD
END:VTIMEZONE
BEGIN:VEVENT
DTSTART;TZID=Asia/Kolkata:20250228T160000
DTEND;TZID=Asia/Kolkata:20250228T170000
DTSTAMP:20260420T125211
CREATED:20250217T054200Z
LAST-MODIFIED:20251007T120716Z
UID:142455-1740758400-1740762000@events.srmap.edu.in
SUMMARY:Dr Khan on Experimental Paradigms in Psycholinguistics
DESCRIPTION:The Department of Literature and Languages is organising a guest lecture on virtual mode. The talk titled “Experimental Paradigms in Psycholinguistics\,” will be delivered by Dr Ouraz Khan\, Assistant Professor specialising in the Psychology and Behaviour at the School of Liberal Studies and Media at the University of Petroleum and Energy Studies (UPES) in Dehradun. Dr Khan’s expertise promises to provide valuable perspectives on the intersection of psychology and language\, making this an enriching opportunity for all participants. \nAbout the Speaker: \nDr Ouroz Khan is an Assistant Professor at UPES\, Dehradun. She has a PhD from the Indian Institute of Technology Delhi and holds a Master’s degree from the Centre of Behavioural and Cognitive Sciences\, University of Allahabad. \nHer doctoral research lies at the intersection of psychology and behavioral economics\, focusing on the psychology of loss aversion\, examining how individuals perceive and respond to losses under varying conditions. Beyond her doctoral work\, she has worked on diverse projects in cognitive science\, including perception of magnitudes in numerical and temporal domains\, perceived accuracy of AI algorithms\, understanding of exponential growth during COVID-19\, and perception of waiting times. She is well-versed in using methodologies such as eye-tracking and fMRI. Her research\, in collaboration with the Max Planck Institute\, Netherlands\, has been published in Cognition and the Journal of Experimental Psychology. Her latest work has been accepted for publication in Decision\, an APA journal. \n  \n 
URL:https://events.srmap.edu.in/event/dr-khan-on-experimental-paradigms-in-psycholinguistics/
LOCATION:Online event
CATEGORIES:Departmental Events,English,Events
END:VEVENT
END:VCALENDAR