BEGIN:VCALENDAR
VERSION:2.0
PRODID:-//SRMAP Events - ECPv6.15.11//NONSGML v1.0//EN
CALSCALE:GREGORIAN
METHOD:PUBLISH
X-WR-CALNAME:SRMAP Events
X-ORIGINAL-URL:https://events.srmap.edu.in
X-WR-CALDESC:Events for SRMAP Events
REFRESH-INTERVAL;VALUE=DURATION:PT1H
X-Robots-Tag:noindex
X-PUBLISHED-TTL:PT1H
BEGIN:VTIMEZONE
TZID:Asia/Kolkata
BEGIN:STANDARD
TZOFFSETFROM:+0530
TZOFFSETTO:+0530
TZNAME:IST
DTSTART:20240101T000000
END:STANDARD
END:VTIMEZONE
BEGIN:VEVENT
DTSTART;TZID=Asia/Kolkata:20250921T180000
DTEND;TZID=Asia/Kolkata:20250921T190000
DTSTAMP:20260420T001336
CREATED:20250916T052657Z
LAST-MODIFIED:20250919T070658Z
UID:144583-1758477600-1758481200@events.srmap.edu.in
SUMMARY:Alumni Meet and Greet
DESCRIPTION:The Directorate of Alumni Relations\, SRM University–AP\, is delighted to host the “Alumni Meet & Greet” at Vivanta\, Bengaluru on September 21st\, 2025. \nThis special gathering is an opportunity for our alumni to reconnect\, reminisce\, and rekindle the cherished memories of their time at SRM University–AP. It will also serve as a wonderful platform to strengthen professional networks and foster meaningful collaborations.
URL:https://events.srmap.edu.in/event/alumni-meet-and-greet/
CATEGORIES:Events,Homepage Events
ATTACH;FMTTYPE=image/png:https://events.srmap.edu.in/wp-content/uploads/2025/09/alumni-meet-greet-display-banner-min.png
END:VEVENT
END:VCALENDAR