BEGIN:VCALENDAR
VERSION:2.0
PRODID:-//SRMAP Events - ECPv6.15.11//NONSGML v1.0//EN
CALSCALE:GREGORIAN
METHOD:PUBLISH
X-WR-CALNAME:SRMAP Events
X-ORIGINAL-URL:https://events.srmap.edu.in
X-WR-CALDESC:Events for SRMAP Events
REFRESH-INTERVAL;VALUE=DURATION:PT1H
X-Robots-Tag:noindex
X-PUBLISHED-TTL:PT1H
BEGIN:VTIMEZONE
TZID:Asia/Kolkata
BEGIN:STANDARD
TZOFFSETFROM:+0530
TZOFFSETTO:+0530
TZNAME:IST
DTSTART:20240101T000000
END:STANDARD
END:VTIMEZONE
BEGIN:VEVENT
DTSTART;TZID=Asia/Kolkata:20251203T140000
DTEND;TZID=Asia/Kolkata:20260104T170000
DTSTAMP:20260421T151309
CREATED:20251126T090335Z
LAST-MODIFIED:20251126T090335Z
UID:145018-1764770400-1767546000@events.srmap.edu.in
SUMMARY:Training Programme on Teamwork and Collaboration
DESCRIPTION:The Directorate of HR is organising a Training Programme for all employees on “Teamwork and Collaboration”. The programme will be beneficial for participants to recognise the value of teamwork in driving organisational success and Integrate teamwork into daily operations. The programme also aims to share insights on:- \n\nApply CRISP: Communication\, Role Clarity\, Integrity\, Share Work\, and Partnership\nLeverage collaboration for impactful results\nEnrich personal relationships through team principles\nMake teamwork a memorable and fulfilling experience\n\nAbout the Instructors \nProf. Satya Duvvuri – Professor of Practice\, Paari School of Business \nMr Satyanarayan D\, Professor of Practice at the Paari School of Business\, brings over 35 years of rich experience in corporate leadership and executive training. He has successfully led professional development programs for esteemed institutions\, including ASCI Hyderabad\, IDBI Training College\, and REC-IPMT. Renowned for his ability to blend deep industry insights with practical\, hands-on learning\, Prof. Satya continues to inspire and guide professionals through impactful training sessions. \nMs Revathi Balakrishnan – Associate Director\, Student Affairs \nMs Revathi Balakrishnan is an accomplished learning facilitator with over sixteen years of experience training school and university students\, teachers\, veterinary professionals\, mid-level managers\, and corporate executives. She has also trained mid-level managers from Japan in advanced communication skills\, strengthening their clarity\, leadership presence\, and cross-cultural effectiveness. Ms Revathi designs highly practical\, interactive sessions rooted in behavioral science and real-world application. Her core expertise includes Communication Skills\, Leadership & Team Building\, Personality Development\, Professional Etiquette\, Motivation & Personal Growth\, Career Readiness\, and Behavioural Training.
URL:https://events.srmap.edu.in/event/training-programme-on-teamwork-and-collaboration/
CATEGORIES:Events,Homepage Events,HR Events
ATTACH;FMTTYPE=image/png:https://events.srmap.edu.in/wp-content/uploads/2025/11/TRAINING-PROGRAMME-1.png
END:VEVENT
BEGIN:VEVENT
DTSTART;TZID=Asia/Kolkata:20251216T160000
DTEND;TZID=Asia/Kolkata:20251216T170000
DTSTAMP:20260421T151309
CREATED:20251215T043520Z
LAST-MODIFIED:20251215T043520Z
UID:145103-1765900800-1765904400@events.srmap.edu.in
SUMMARY:7th Eminent Guest Lecture by Prof. G Narhari Sastry
DESCRIPTION:The Office of Dean-Research organises the 7th Eminent Guest Lecture on December 16\, 2025. Prof. G Narhari Sastry\, Professor \, Department of Biotechnology\, IIT Hyderabad\, resource person for the Guest Lecture will deliver an insightful session on “Artificial Intelligence in Natural Sciences and Engineering”.  \nAbout the Speaker \nProf. G Narahari Sastry is a professor at the Department of Biotechnology\, IIT Hyderabad. His research interests are working in the interdisciplinary areas of chemistry\, biology\, material science\, software development and artificial intelligence. In the last decade\, the GNS group was involved in developing indigenous software that aims to strengthen computational drug discovery called the Molecular Property Diagnostic Suite (MPDS)\, thereby working towards Aatma Nirbhar Bharat. Dr. Sastry has also made fundamental contributions in the field of non-covalent interaction\, Bucky bowl chemistry\, aromaticity\, and pericyclic reaction. He has made a great contribution in open-source software development in the field of Computer-Aided Drug Discovery\, databases\, and web servers; all the resources developed by his group are freely accessible to the scientific community. He has published more than 340 research articles in reputed journals with an active average impact factor. \nMost of his papers are well-cited\, with a total of 14\,900 citations\, an h-index of 57\, and an i10-index of 260\, according to Google Scholar. Dr. Sastry and his group have mainly contributed to and maintained various web-based platforms and databases\, such as a) MPDS (for several diseases)\, b) CAD\, c) A2ID\, d) PLID\, e) NEI-MPDB\, and f) OSADHI. He guided 31 Ph.D. and 30 Post-doctoral fellows\, besides over 200 people who are involved in short-term visits. He has given over 450 lectures in both national and international conferences\, invited talks and symposia. \nDr. Sastry was awarded with Shanti Swarup Bhatnagar Prize in Chemical Sciences (2011) (one of the highest prizes for science and engineering in India)\, National Bioscience award\, DBT (2009)\, (one of the highest for Life sciences in India)\, Swarnajayanti Fellowship (2005) (DST)\, B.M. Birla award (2001)\, Dr. B.C. Deb Memorial award (2009)\, CRSI Bronze Medal (2011)\, CRSI Silver Medal (2024) and Alexander von Humboldt Fellowship. He is also Sir J. C. Bose National Fellow. He was a visiting professor at IMS\, Japan; LMU\, Munich\, Germany; Jackson State University\, USA\, and Kyushu University\, Japan. He is a Fellow of INSA (FNA)\, National Academy of Sciences (FNASc)\, Fellow of the Indian Academy of Sciences (FASc)\, Fellow of Royal Society of Chemistry (FRSC)\, Fellow of Association of Biotechnology and Pharmacy\, Telangana State Academy of Sciences (Founder Fellow)\, Andhra Pradesh Academy of Sciences (FAPAS) and also Fellow of Biotech Research Society\, India (BRSI).
URL:https://events.srmap.edu.in/event/7th-eminent-guest-lecture-by-prof-g-narhari-sastry/
LOCATION:Tiered Classroom\, 5th Floor\, Admin Block
CATEGORIES:Departmental Events,Events,Homepage Events,Research Events
ATTACH;FMTTYPE=image/png:https://events.srmap.edu.in/wp-content/uploads/2025/12/Untitled-design-min.png
END:VEVENT
END:VCALENDAR