BEGIN:VCALENDAR
VERSION:2.0
PRODID:-//SRMAP Events - ECPv6.15.11//NONSGML v1.0//EN
CALSCALE:GREGORIAN
METHOD:PUBLISH
X-WR-CALNAME:SRMAP Events
X-ORIGINAL-URL:https://events.srmap.edu.in
X-WR-CALDESC:Events for SRMAP Events
REFRESH-INTERVAL;VALUE=DURATION:PT1H
X-Robots-Tag:noindex
X-PUBLISHED-TTL:PT1H
BEGIN:VTIMEZONE
TZID:Asia/Kolkata
BEGIN:STANDARD
TZOFFSETFROM:+0530
TZOFFSETTO:+0530
TZNAME:IST
DTSTART:20210101T000000
END:STANDARD
END:VTIMEZONE
BEGIN:VEVENT
DTSTART;TZID=Asia/Kolkata:20221115T100000
DTEND;TZID=Asia/Kolkata:20221117T170000
DTSTAMP:20260422T082223
CREATED:20221110T233700Z
LAST-MODIFIED:20221110T233700Z
UID:142506-1668506400-1668704400@events.srmap.edu.in
SUMMARY:War of drones: Design\, experiment\, and learn!
DESCRIPTION:Drones are steadily evolving technology with a wide array of applications in various sectors that\, over the next decade\, will change in ways that are unimagined. The Directorate of Entrepreneurship and Innovation is conducting a three-day workshop\, War of drones\, on drone technology and its applications. \nThe workshop will be handled and facilitated by Sri Gopi Raja\, CEO of Fopple Technology Pvt Ltd. Andhra Pradesh. The session will confer on the various aspects and applications of drones and allied technologies. The experimental event allows students to get insights into drone technology from industry experts. They will be exposed to hand on assembling and operations of drones. Furthermore\, the future and scope of the promising technology will also be discussed during the workshop. \nOnly limited seats are available\, and the registration fee is Rs 500. \nThe last date for registration is November 11\, 2022. \nSecure your seats right now!
URL:https://events.srmap.edu.in/event/war-of-drones-design-experiment-and-learn/
CATEGORIES:Events,IDEA Events
END:VEVENT
END:VCALENDAR