BEGIN:VCALENDAR
VERSION:2.0
PRODID:-//SRMAP Events - ECPv6.15.11//NONSGML v1.0//EN
CALSCALE:GREGORIAN
METHOD:PUBLISH
X-WR-CALNAME:SRMAP Events
X-ORIGINAL-URL:https://events.srmap.edu.in
X-WR-CALDESC:Events for SRMAP Events
REFRESH-INTERVAL;VALUE=DURATION:PT1H
X-Robots-Tag:noindex
X-PUBLISHED-TTL:PT1H
BEGIN:VTIMEZONE
TZID:Asia/Kolkata
BEGIN:STANDARD
TZOFFSETFROM:+0530
TZOFFSETTO:+0530
TZNAME:IST
DTSTART:20240101T000000
END:STANDARD
END:VTIMEZONE
BEGIN:VEVENT
DTSTART;TZID=Asia/Kolkata:20250225T180000
DTEND;TZID=Asia/Kolkata:20250225T190000
DTSTAMP:20260420T100425
CREATED:20250214T042500Z
LAST-MODIFIED:20250528T083342Z
UID:142514-1740506400-1740510000@events.srmap.edu.in
SUMMARY:Entrepreneurship Bootcamp 3.0: Transforming Ideas to Reality
DESCRIPTION:The Directorate of Entrepreneurship and Innovation is launching yet another chapter of its most coveted event – the Entrepreneurship Bootcamp 3.0 (EBC 3.0). The workshop that previously saw the start of 25+ new ventures\, gave way to 80+ internships and 10+ crore funding is now set to embark on a new chapter that is going to be better\, bigger\, and bolder. \nThe new chapter of the EBC 3.0 promises a dynamic series of events chartered to ignite and nurture the entrepreneur in you. With 10 interactive sessions and hands-on workshops led by industry experts\, 50k venture grants for the top 10 ideas\, amazing networking opportunities with industry leaders\, and access to funding/grants from not just the varsity but also as part of the government schemes (like MeitY GENESIS)\, Investors\, and Industry Partners\, the 8-week entrepreneurial journey will bring in unparalleled growth\, a robust support system\, and the invaluable skills to metamorphose ideas into successful ventures. \nThe Bootcamp set to begin on February 25\, 2025\, will last for a span of 8-weeks. Here’s a chance to unleash the entrepreneur in you and metamorphose yourself from an aspiring entrepreneur to a successful business owner. Join us EBC 3.0 and whittle your skills\, sharpen your insights\, and turn your innovative ideas into successful ventures. \nRegistration Link: https://docs.google.com/forms/d/e/1FAIpQLSdCDSUNfJiBBy9x-WNOGohT6e3azd2qUtBdqr_e6m-qkSTuEg/viewform
URL:https://events.srmap.edu.in/event/entrepreneurship-bootcamp-3-0-transforming-ideas-to-reality/
LOCATION:SRM University-AP
CATEGORIES:Events,IDEA Events,IDEA Workshop
END:VEVENT
END:VCALENDAR