BEGIN:VCALENDAR
VERSION:2.0
PRODID:-//SRMAP Events - ECPv6.15.11//NONSGML v1.0//EN
CALSCALE:GREGORIAN
METHOD:PUBLISH
X-WR-CALNAME:SRMAP Events
X-ORIGINAL-URL:https://events.srmap.edu.in
X-WR-CALDESC:Events for SRMAP Events
REFRESH-INTERVAL;VALUE=DURATION:PT1H
X-Robots-Tag:noindex
X-PUBLISHED-TTL:PT1H
BEGIN:VTIMEZONE
TZID:Asia/Kolkata
BEGIN:STANDARD
TZOFFSETFROM:+0530
TZOFFSETTO:+0530
TZNAME:IST
DTSTART:20220101T000000
END:STANDARD
END:VTIMEZONE
BEGIN:VEVENT
DTSTART;TZID=Asia/Kolkata:20230301T100000
DTEND;TZID=Asia/Kolkata:20230301T130000
DTSTAMP:20260422T034543
CREATED:20230224T002200Z
LAST-MODIFIED:20250806T121450Z
UID:142507-1677664800-1677675600@events.srmap.edu.in
SUMMARY:Strive for Sustainable Development with Saurvi
DESCRIPTION:The Sustainable Development Goals establish a blueprint for peace and prosperity for people and the planet\, now and into the future. Fundamentally the SDGs are an urgent call for action by all countries\, developed and developing\, in a global partnership to formulate strategies in resolving issues on poverty\, improve health and education\, reduce inequality\, and spur economic growth – all while tackling climate change and working to preserve our oceans and forests. In accordance with the UNSDG goals\, The Directorate of Entrepreneurship and Innovation in association with Saurvi\, the woman leadership and entrepreneurship student community under the Home of Leaders\, is organising a workshop on Sustainable Development and calls for student presentations on March 01\, 2023. The workshop will feature Mrs Burisetty Sri Lakshmi Ramya Krishna\, Founder and CEO of Utopia Nutraceuticals India Private Limited\, as the guest speaker. \nAgenda: \nSustainable development is a development plan that meets the needs of the present\, without compromising the ability of future generations to meet their own needs. \n  \nThe workshop will be followed by student presentations\, where participants can share their thoughts and ideas related to Sustainable Development. A few selected ideas will be followed up in a Pitch and Win contest later this month\, with winners receiving cash prizes\, medals\, guidance from the HatchLab and more. A Kahoot! is also scheduled for students to broaden their knowledge of the topic. Winners of the game will receive exciting prizes. \nGuidelines for Presentation: \n\nProblem statements have been provided in the google form. Participants need to choose any one among them.\nEach team/individual will be given 10 minutes to present their idea\, followed by a Q&A session with the judges\, evaluation by the organisers\, audience and judges for around 3 minutes.\nPresentations will be done in the order prescribed in the mail that will be sent to you a few days before the event.\n\n  \nJoin the workshop for an insightful discourse on SDGs and explore the world of opportunities in the field of Sustainable Development. \n\nRegistration Deadline: Feb 27\, 2023\nRegistration Fee: Rs. 500\, Fully subsidized by SRM University-AP\n\n  \nAbout the Speaker \nMrs Burisetty Sri Lakshmi Ramya Krishna (Founder & CEO of Utopia Nutraceuticals) is a woman entrepreneur who started her start–up named “Utopia Nutraceuticals India Private Limited” in 2018 while pursuing her PhD as a Research Scholar in the Department of Biotechnology\, KL Deemed to be University. \nNote: E-Certificates and On Duty Attendance will be provided for the participants.
URL:https://events.srmap.edu.in/event/strive-for-sustainable-development-with-saurvi/
LOCATION:APJ Abdul Kalam Auditorium
CATEGORIES:Departmental Events,Events,IDEA Events,IDEA Workshop,Workshop
END:VEVENT
END:VCALENDAR