BEGIN:VCALENDAR
VERSION:2.0
PRODID:-//SRMAP Events - ECPv6.15.11//NONSGML v1.0//EN
CALSCALE:GREGORIAN
METHOD:PUBLISH
X-ORIGINAL-URL:https://events.srmap.edu.in
X-WR-CALDESC:Events for SRMAP Events
REFRESH-INTERVAL;VALUE=DURATION:PT1H
X-Robots-Tag:noindex
X-PUBLISHED-TTL:PT1H
BEGIN:VTIMEZONE
TZID:Asia/Kolkata
BEGIN:STANDARD
TZOFFSETFROM:+0530
TZOFFSETTO:+0530
TZNAME:IST
DTSTART:20210101T000000
END:STANDARD
END:VTIMEZONE
BEGIN:VEVENT
DTSTART;TZID=Asia/Kolkata:20220905T080000
DTEND;TZID=Asia/Kolkata:20220909T050000
DTSTAMP:20260422T130800
CREATED:20220902T060400Z
LAST-MODIFIED:20250528T084431Z
UID:142233-1662364800-1662699600@events.srmap.edu.in
SUMMARY:Save the soil for a greener tomorrow
DESCRIPTION:The Save Soil movement was launched by the yogi\, mystic\, and the visionary\, Sadhguru\, around three decades ago as a small step that would contribute towards his lifetime vision of raising Human Consciousness. Over time\, it snowballed into a global movement garnering support from international and national agencies and uniting people worldwide to affirm their commitment to restore the planet by advocating for the health and future of our soil. \nThis effort will reap rewards when ecological challenges are taken seriously by corporations\, organisations\, individuals\, and governments and when public support allows them to embrace long-term policy changes to protect the soil. SRM University-AP in collaboration with Isha Foundations is conducting a workshop to create awareness about soil conservation among the student community. \nDate: September 05\, 06 & 09\, 2022 \nVenue: ALC\, Level 4 – Admin Block \nThe time calls for a conscientious approach towards the environment from all sections of the society from local communities\, organisations\, farmers\, schools\, and governments. Join the #SaveSoilMovement and lend your hands to make a greener future possible.
URL:https://events.srmap.edu.in/event/save-the-soil-for-a-greener-tomorrow/
CATEGORIES:Events,International Relations,IR-Events
END:VEVENT
END:VCALENDAR