BEGIN:VCALENDAR
VERSION:2.0
PRODID:-//SRMAP Events - ECPv6.15.11//NONSGML v1.0//EN
CALSCALE:GREGORIAN
METHOD:PUBLISH
X-ORIGINAL-URL:https://events.srmap.edu.in
X-WR-CALDESC:Events for SRMAP Events
REFRESH-INTERVAL;VALUE=DURATION:PT1H
X-Robots-Tag:noindex
X-PUBLISHED-TTL:PT1H
BEGIN:VTIMEZONE
TZID:Asia/Kolkata
BEGIN:STANDARD
TZOFFSETFROM:+0530
TZOFFSETTO:+0530
TZNAME:IST
DTSTART:20210101T000000
END:STANDARD
END:VTIMEZONE
BEGIN:VEVENT
DTSTART;TZID=Asia/Kolkata:20220915T100000
DTEND;TZID=Asia/Kolkata:20220915T160000
DTSTAMP:20260422T130740
CREATED:20220912T233000Z
LAST-MODIFIED:20250528T084431Z
UID:142237-1663236000-1663257600@events.srmap.edu.in
SUMMARY:Mega passport drive: To facilitate your journey abroad
DESCRIPTION:The Office of International Relations and Higher Studies is organising a Mega Passport Drive to assist students in applying for new passports and renewing their existing passports. The event is scheduled on September 15 and 22\, 2022 from 10.00 am to 04.30 pm. \nSRM University-AP offers umpteen opportunities for students to study abroad and gain international learning exposure. The various outbound mobility programmes introduced by the university are Global Immersion\, Semester Abroad Programmes\, Overseas Internships\, Summer and Winter Schools\, etc. What makes the abroad learning opportunities at SRM University-AP unique is the customised variety of overseas learning avenues introduced here keeping the differing requirements of its students in mind. \nA lot of students have expressed their interest in being part of such study abroad ventures. However\, a majority of them are still groping in the darkness when it comes to various technical procedures associated with travelling abroad. Applying and securing a passport is one of the hurdles on their way. The Mega Passport Drive is an opportunity to walk students through the passport application procedure. \nStudents can submit their applications to the university itself. All the individuals who are looking for a new issue or reissue can avail this opportunity.
URL:https://events.srmap.edu.in/event/mega-passport-drive-to-facilitate-your-journey-abroad/
CATEGORIES:Events,International Relations,IR-Events
END:VEVENT
BEGIN:VEVENT
DTSTART;TZID=Asia/Kolkata:20220915T160000
DTEND;TZID=Asia/Kolkata:20220915T170000
DTSTAMP:20260422T130740
CREATED:20220913T000700Z
LAST-MODIFIED:20250806T124436Z
UID:142239-1663257600-1663261200@events.srmap.edu.in
SUMMARY:Safeguard your tomorrow with a higher education abroad
DESCRIPTION:Utilising the student phase of life to the maximum is paramount in every ambitious individual’s career. Investing a definite amount of time and effort in acquiring and honing knowledge is necessary for building a better future. To create your identity in a multifaceted academic milieu\, one needs to get a grip on how the world works. Affording different values and mindsets of the world outside one’s homeland is a well-opted way to reach this goal. There lies the relevance of studying abroad. \nThe Office of International Relations and Higher Studies is conducting a seminar on Glimpse on Abroad Studies to discuss the University Admission Process and the importance of GMAT\, GRE & IELTS. Mr Prabhu T L\, Regional Head\, Jamboree Education\, South India\, will handle the session. \nDate: September 15\, 2022 \nTime: 4.00 PM to 5.00 PM \nVenue: Admin block\, Third floor\, ALC -1 \nAbout the speaker \nPrabhu holds an MBA in International Business from Pondicherry Central University and is currently the Regional Head – South with Jamboree Education\, India’s leading institute for helping students achieve their dreams of studying in Global Universities. His focus areas include the practice of 21st-century education curriculum\, the use of technology for academic excellence\, and enabling students to realise their potential by choosing suitable careers\, courses\, and colleges in India and abroad. He is a teacher at heart and enjoys spending time with students inside and outside the class. He guides students to achieve their dreams of pursuing higher education in the top Universities worldwide.
URL:https://events.srmap.edu.in/event/safeguard-your-tomorrow-with-a-higher-education-abroad/
CATEGORIES:Events,International Relations,IR-Events
END:VEVENT
END:VCALENDAR