BEGIN:VCALENDAR
VERSION:2.0
PRODID:-//SRMAP Events - ECPv6.15.11//NONSGML v1.0//EN
CALSCALE:GREGORIAN
METHOD:PUBLISH
X-ORIGINAL-URL:https://events.srmap.edu.in
X-WR-CALDESC:Events for SRMAP Events
REFRESH-INTERVAL;VALUE=DURATION:PT1H
X-Robots-Tag:noindex
X-PUBLISHED-TTL:PT1H
BEGIN:VTIMEZONE
TZID:Asia/Kolkata
BEGIN:STANDARD
TZOFFSETFROM:+0530
TZOFFSETTO:+0530
TZNAME:IST
DTSTART:20210101T000000
END:STANDARD
END:VTIMEZONE
BEGIN:VEVENT
DTSTART;TZID=Asia/Kolkata:20221010T160000
DTEND;TZID=Asia/Kolkata:20221010T170000
DTSTAMP:20260422T114304
CREATED:20221009T235400Z
LAST-MODIFIED:20250806T123535Z
UID:142242-1665417600-1665421200@events.srmap.edu.in
SUMMARY:Advantages of global immersion programmes in Malaysia
DESCRIPTION:Global Immersion Programme is a unique abroad learning programme instituted at SRM University-AP\, enabling students to acquire an all-encompassing learning exposure at an international university. The programme intends to acquaint students with varied approaches of learning while gaining exposure to a foreign cultural\, political\, and social milieu. \nThe Directorate of International Relations and Higher Studies is organising a webinar on the topic Advantages of Global Immersion Programmes in Malaysia to give students a brief overview of the Global Immersion Programmes in Malaysia and the benefits of undertaking them. Dr Geevaneswary Saththasivam\, Director of Business Development\, AIMST University\, will be the keynote speaker for the event. \nSpeaker’s Profile \nDr Geevaneswary Saththasivam was the former lecturer and programme coordinator for UG and PG programmes from the faculty of Business and Management. Prior to that\, she has 15 years of industry experience in the fields of Supply Chain Management and Shop Floor Management systems and 4 years of experience working in the field of Project Management in multinational corporations.
URL:https://events.srmap.edu.in/event/advantages-of-global-immersion-programmes-in-malaysia/
CATEGORIES:Events,International Relations,IR-Events
ATTACH;FMTTYPE=image/png:https://events.srmap.edu.in/wp-content/uploads/2022/10/Global-Immersion-Programmes-SM.png
END:VEVENT
END:VCALENDAR