BEGIN:VCALENDAR
VERSION:2.0
PRODID:-//SRMAP Events - ECPv6.15.11//NONSGML v1.0//EN
CALSCALE:GREGORIAN
METHOD:PUBLISH
X-ORIGINAL-URL:https://events.srmap.edu.in
X-WR-CALDESC:Events for SRMAP Events
REFRESH-INTERVAL;VALUE=DURATION:PT1H
X-Robots-Tag:noindex
X-PUBLISHED-TTL:PT1H
BEGIN:VTIMEZONE
TZID:Asia/Kolkata
BEGIN:STANDARD
TZOFFSETFROM:+0530
TZOFFSETTO:+0530
TZNAME:IST
DTSTART:20210101T000000
END:STANDARD
END:VTIMEZONE
BEGIN:VEVENT
DTSTART;TZID=Asia/Kolkata:20221012T110000
DTEND;TZID=Asia/Kolkata:20221012T160000
DTSTAMP:20260422T114333
CREATED:20221010T005200Z
LAST-MODIFIED:20250528T084432Z
UID:142244-1665572400-1665590400@events.srmap.edu.in
SUMMARY:Global education fair 2k22
DESCRIPTION:International education fairs are exciting opportunities that present a broader picture of the exceeding possibilities of education abroad. Thousands of students in search of overseas learning opportunities are unaware of the numerous universities that call for international applicants every year. It is the lack of an interface between them that prevents students from availing the best opportunities open before them.The Directorate of International Relations and Higher Studies presents to you Global Education Fair 2k22 featuring the major universities in the USA\, the UK\, Canada\, and Australia. \nReputable universities including the Illinois Institute of Technology\, University of West Florida\, James Madison University\, and many more are participating in the event. The education fair will introduce students to the diverse range of study programmes in available in their field of interest. Students may also raise their queries and gather a step-by-step understanding of the application procedures of various universities. \nVenue: APJ Abdul Kalam Auditorium
URL:https://events.srmap.edu.in/event/global-education-fair-2k22/
CATEGORIES:Events,International Relations,IR-Events
ATTACH;FMTTYPE=image/jpeg:https://events.srmap.edu.in/wp-content/uploads/2022/10/Global-Education-Fair-SM.jpg
END:VEVENT
END:VCALENDAR