BEGIN:VCALENDAR
VERSION:2.0
PRODID:-//SRMAP Events - ECPv6.15.11//NONSGML v1.0//EN
CALSCALE:GREGORIAN
METHOD:PUBLISH
X-ORIGINAL-URL:https://events.srmap.edu.in
X-WR-CALDESC:Events for SRMAP Events
REFRESH-INTERVAL;VALUE=DURATION:PT1H
X-Robots-Tag:noindex
X-PUBLISHED-TTL:PT1H
BEGIN:VTIMEZONE
TZID:Asia/Kolkata
BEGIN:STANDARD
TZOFFSETFROM:+0530
TZOFFSETTO:+0530
TZNAME:IST
DTSTART:20210101T000000
END:STANDARD
END:VTIMEZONE
BEGIN:VEVENT
DTSTART;TZID=Asia/Kolkata:20221013T100000
DTEND;TZID=Asia/Kolkata:20221013T160000
DTSTAMP:20260422T114333
CREATED:20221010T223300Z
LAST-MODIFIED:20250528T084432Z
UID:142246-1665655200-1665676800@events.srmap.edu.in
SUMMARY:Overseas Education Fair 2k22
DESCRIPTION:Education Fairs are where you can meet a diverse array of universities under one roof. It is one of the ultimate places to get started on the study abroad journey. The Directorate of International Relations and Higher Studies is hosting an Overseas Education Fair 2k22 to offer the students an opportunity to discuss their higher education concerns face-to-face with the university representatives. \nThe Education Fair is a solid platform to get an elaborate idea of the various study options\, admission requirements\, scholarships\, application process\, and much more. It will help students receive direct information from the university representatives and gain a deeper insight into their study preferences. \nRenowned USA and UK universities such as the Bay Atlantic University\, Central Michigan University\, Concordia University\, Webster University\, Greenwich University\, Kingston University\, Western Washington University\, and many more will be participating in Overseas Education Fair 2k22 to interact with the students of SRM University- AP. \nJoin the fair and get to know the opportunities waiting for you ahead!
URL:https://events.srmap.edu.in/event/overseas-education-fair-2k22/
LOCATION:APJ Abdul Kalam Auditorium
CATEGORIES:Events,International Relations,IR-Events
ATTACH;FMTTYPE=image/jpeg:https://events.srmap.edu.in/wp-content/uploads/2022/10/Overseas-Education-fair-SM.jpg
END:VEVENT
END:VCALENDAR