BEGIN:VCALENDAR
VERSION:2.0
PRODID:-//SRMAP Events - ECPv6.15.11//NONSGML v1.0//EN
CALSCALE:GREGORIAN
METHOD:PUBLISH
X-WR-CALNAME:SRMAP Events
X-ORIGINAL-URL:https://events.srmap.edu.in
X-WR-CALDESC:Events for SRMAP Events
REFRESH-INTERVAL;VALUE=DURATION:PT1H
X-Robots-Tag:noindex
X-PUBLISHED-TTL:PT1H
BEGIN:VTIMEZONE
TZID:Asia/Kolkata
BEGIN:STANDARD
TZOFFSETFROM:+0530
TZOFFSETTO:+0530
TZNAME:IST
DTSTART:20220101T000000
END:STANDARD
END:VTIMEZONE
BEGIN:VEVENT
DTSTART;TZID=Asia/Kolkata:20230419T153000
DTEND;TZID=Asia/Kolkata:20230419T163000
DTSTAMP:20260422T010305
CREATED:20230404T013600Z
LAST-MODIFIED:20250806T121134Z
UID:141794-1681918200-1681921800@events.srmap.edu.in
SUMMARY:OCDM in Optical Communications
DESCRIPTION:The Directorate of International Relations and Higher Studies\, in association with the Department of Electronics and Communication Engineering\, is organising a Plenary talk on Optical Code Division Multiplexing (OCDM) in optical communications. The session will be handled by Prof. Dr Mohd Rashidi Che Beson\, Faculty of Electronic Engineering & Technology\, Universiti Malaysia Perlis (UniMAP)\, Malaysia. \nAbout the Speaker \nProf. Dr Mohd Rashidi Che Beson has been an associate professor and Research Fellow at Advanced Communication Engineering\, Centre of Excellence – Faculty of Electronic Engineering & Technology\, UniMAP since 2014. An advocate of interdisciplinary research\, his research interests lie in the strength of Optical CDMA technology\, RoF\, Visible Light Communication\, Horticulture and Fiber sensor technology. He has published 136 scientific papers\, including conferences and journals\, from 2014 until July 2022. The total citation was 540 from Google Scholar and 469 from Scopus databases. In addition\, he is also a regular reviewer for several high-impact ISI-ranked journals. He has also successfully supervised 3 PhD and 6 MSc students as the main and co-supervisor. He is currently supervising 4 PhD students. He received his professional engineer qualification (Ir.) from the Board of Engineer Malaysia (BEM) in March 2018 and a professional technologist (Ts.) from the Malaysia Board of Technologists (MBOT) in July 2018.
URL:https://events.srmap.edu.in/event/ocdm-in-optical-communications/
LOCATION:Tiered Classroom\, 5th Floor\, Admin Block
CATEGORIES:Departmental Events,ECE,Events,International Relations,Invited Talks,IR-Events
END:VEVENT
END:VCALENDAR