BEGIN:VCALENDAR
VERSION:2.0
PRODID:-//SRMAP Events - ECPv6.15.11//NONSGML v1.0//EN
CALSCALE:GREGORIAN
METHOD:PUBLISH
X-ORIGINAL-URL:https://events.srmap.edu.in
X-WR-CALDESC:Events for SRMAP Events
REFRESH-INTERVAL;VALUE=DURATION:PT1H
X-Robots-Tag:noindex
X-PUBLISHED-TTL:PT1H
BEGIN:VTIMEZONE
TZID:Asia/Kolkata
BEGIN:STANDARD
TZOFFSETFROM:+0530
TZOFFSETTO:+0530
TZNAME:IST
DTSTART:20230101T000000
END:STANDARD
END:VTIMEZONE
BEGIN:VEVENT
DTSTART;TZID=Asia/Kolkata:20240226T113000
DTEND;TZID=Asia/Kolkata:20240226T123000
DTSTAMP:20260424T202018
CREATED:20240225T231800Z
LAST-MODIFIED:20250806T114916Z
UID:142292-1708947000-1708950600@events.srmap.edu.in
SUMMARY:ISB Orientation Session for MBA Aspirants by  Mr Arun Prakash
DESCRIPTION:The Department of International Relations and Higher Studies (IR&HS) is organising a seminar on “ISB Orientation Session for MBA Aspirants” on February 26\, 2024. The seminar is aimed at pre-final or final-year undergraduate and postgraduate students who want to equip themselves with multidisciplinary perspectives\, thinking skills\, and research tools before they begin their Post Graduate Programme (PGP) in Management. \nThe seminar aims to provide valuable insights to students who are exploring different career goals and considering admission to B-schools. The seminar will delve into various aspects of the decision-making process\, including the benefits and drawbacks of choosing a one-year MBA versus a traditional two-year programme\, the differences between a Master’s in Management (MIM) and a Master’s in Business Administration (MBA)\, and the key distinctions between global business schools and regular business schools. Additionally\, the seminar will also explore the possibilities of pursuing an MBA in India versus an MBA abroad\, the merits of a full-time MBA versus an executive MBA\, and offer guidance on how to shortlist the best options based on individual career aspirations. Attendees can expect to gain clarity and a deeper understanding of the nuances of each option\, enabling them to make an informed decision about their future career path. \nAbout the Speaker \nMr Arun Prakash is a higher education Marketing Professional. He leads the Young Leaders Programme at the Indian School of Business. He has rich experience working in top brands like Naukri.com\, Butterfly Appliances\, Eenadu and served in premier educational institutions in various managerial roles. His area of interest lies in Career Counselling\, Marketing Strategy\, Branding\, Digital Marketing\, Admissions\, Outreach\, Students’ Life\, and Alumni Relations. \nCome join us and be a part of this invigorating session!
URL:https://events.srmap.edu.in/event/isb-orientation-session-for-mba-aspirants-by-mr-arun-prakash/
LOCATION:Tiered Classroom\, 5th Floor\, Admin Block
CATEGORIES:Departmental Events,Events,International Relations,IR-Events
END:VEVENT
BEGIN:VEVENT
DTSTART;VALUE=DATE:20240729
DTEND;VALUE=DATE:20240801
DTSTAMP:20260424T202018
CREATED:20240726T005600Z
LAST-MODIFIED:20251007T091928Z
UID:141830-1722211200-1722470399@events.srmap.edu.in
SUMMARY:SAKURA SANGAM: Indo-Japan Joint Workshop Virtual Collaboration between SRM AP and Toyo University
DESCRIPTION:In a groundbreaking initiative\, the Directorate of International Relations & Higher Studies\, along with the Departments of Mechanical Engineering and Electrical and Electronics Engineering\, is set to host a virtual collaborative joint workshop titled “SAKURA SANGAM: Indo-Japan Joint Workshop.” This two-day event\, scheduled for July 29 – 30\, 2024\, aims to foster academic\, cultural\, and career collaborations between the prestigious Toyo University in Japan and SRM University-AP. \nDay 1 – The workshop will focus on academic workshops covering key subjects in Mechanical\, Electrical\, and Electronics engineering. Participants will have the opportunity to engage in dynamic sessions\, exchange knowledge\, and explore the latest developments in these fields. \nDay 2 – Participants will have the chance to engage in talks and seminars that explore the rich cultural heritage of both nations\, fostering a deeper understanding and appreciation for their traditions and customs. Additionally\, career-oriented sessions will provide students with valuable insights into the professional landscape\, offering guidance on internships\, job prospects\, and industry trends in both Japan and India. \nWith the world becoming increasingly interconnected\, initiatives like this play a vital role in fostering international collaborations and promoting global understanding. The workshop promises to be a landmark event\, bringing together the best minds from India and Japan to create a vibrant and inclusive environment for academic and cultural exchange. \nThe SAKURA SANGAM workshop represents a significant milestone in the collaboration between SRM University-AP and Toyo University. By bringing together students\, faculty\, and industry professionals from two distinct nations\, it aims to create a platform for cross-cultural exchange and mutual learning. This workshop will not only strengthens academic ties but also opens doors to future collaborations and partnerships between the two universities.
URL:https://events.srmap.edu.in/event/sakura-sangam-indo-japan-joint-workshop-virtual-collaboration-between-srm-ap-and-toyo-university/
LOCATION:Zoom
CATEGORIES:Departmental Events,EEE,Events,International Relations,Mechanical Engineering,Workshop
ATTACH;FMTTYPE=image/png:https://events.srmap.edu.in/wp-content/uploads/2024/07/Sakura-Sangam-Diplay-Screen.png
END:VEVENT
BEGIN:VEVENT
DTSTART;TZID=Asia/Kolkata:20260120T110000
DTEND;TZID=Asia/Kolkata:20260120T120000
DTSTAMP:20260424T202018
CREATED:20260120T060336Z
LAST-MODIFIED:20260120T102930Z
UID:145200-1768906800-1768910400@events.srmap.edu.in
SUMMARY:SRM University–AP Welcomes University Catholic West\, France
DESCRIPTION:The Directorate of International Relations & Higher Studies (IR & HS)\, SRM University–AP\, is pleased to welcome delegates for University Catholic West (Université Catholique de l’Ouest)\, France\, as part of its ongoing efforts to strengthen global academic partnerships. \nMs Giao Duong\, International Relations Manager and Mr Srinivas\, Country Manager will be visiting the campus on January 20\, 2026. The interaction will explore new avenues for international collaboration\, exchange opportunities\, and joint academic initiatives\, strengthening global learning experiences for students and faculty. \nThis meeting reflects SRM University–AP’s commitment to fostering international collaboration\, academic exchange\, and cross-cultural engagement\, enabling students and faculty to benefit from global learning opportunities.
URL:https://events.srmap.edu.in/event/university-catholic-west-france/
CATEGORIES:Homepage Events,International Relations
ATTACH;FMTTYPE=image/jpeg:https://events.srmap.edu.in/wp-content/uploads/2026/01/University-Catholic-West-France-1.jpg
END:VEVENT
BEGIN:VEVENT
DTSTART;TZID=Asia/Kolkata:20260219T090000
DTEND;TZID=Asia/Kolkata:20260220T170000
DTSTAMP:20260424T202018
CREATED:20260219T095226Z
LAST-MODIFIED:20260219T095226Z
UID:145419-1771491600-1771606800@events.srmap.edu.in
SUMMARY:Discover India-Shibaura Institute of Technology\, Japan
DESCRIPTION:
URL:https://events.srmap.edu.in/event/discover-india-shibaura-institute-of-technology-japan/
CATEGORIES:Homepage Events,International Relations,IR-Events
ATTACH;FMTTYPE=image/jpeg:https://events.srmap.edu.in/wp-content/uploads/2026/02/di-ir-japan.jpg
END:VEVENT
END:VCALENDAR