BEGIN:VCALENDAR
VERSION:2.0
PRODID:-//SRMAP Events - ECPv6.15.11//NONSGML v1.0//EN
CALSCALE:GREGORIAN
METHOD:PUBLISH
X-WR-CALNAME:SRMAP Events
X-ORIGINAL-URL:https://events.srmap.edu.in
X-WR-CALDESC:Events for SRMAP Events
REFRESH-INTERVAL;VALUE=DURATION:PT1H
X-Robots-Tag:noindex
X-PUBLISHED-TTL:PT1H
BEGIN:VTIMEZONE
TZID:Asia/Kolkata
BEGIN:STANDARD
TZOFFSETFROM:+0530
TZOFFSETTO:+0530
TZNAME:IST
DTSTART:20240101T000000
END:STANDARD
END:VTIMEZONE
BEGIN:VEVENT
DTSTART;TZID=Asia/Kolkata:20250214T110000
DTEND;TZID=Asia/Kolkata:20250214T130000
DTSTAMP:20260422T130215
CREATED:20250211T060300Z
LAST-MODIFIED:20250528T085723Z
UID:141967-1739530800-1739538000@events.srmap.edu.in
SUMMARY:Leadership Talk by Mr Sannu Francis
DESCRIPTION:The Directorate of Executive Education and Professional Studies (DEEPS) is organising a Leadership Talk on February 14\, 2025. The esteemed talk will be delivered by Mr Sannu Francis\, General Manager of Orient Cement on the topics “Business Communication” and “Overview of an HR Department in a Corporate.” \nBusiness communication is essential for every organisation to succeed. It is the foundation of a business’s successful cooperation\, output\, and expansion. This talk will cover the significance of business communication\, its different forms and sorts\, and the reasons it is necessary for every firm to run smoothly. \nThe talk will also delve into the crucial role played by the HR Department in creating a positive company culture and raising worker productivity and engagement. \nJoin the session for an insightful lecture!
URL:https://events.srmap.edu.in/event/leadership-talk-by-mr-sannu-francis/
LOCATION:Mini Auditorium
CATEGORIES:Departmental Events,Events,Invited Talks,Management Events
END:VEVENT
BEGIN:VEVENT
DTSTART;TZID=Asia/Kolkata:20250220T090000
DTEND;TZID=Asia/Kolkata:20250221T170000
DTSTAMP:20260422T130215
CREATED:20250218T225200Z
LAST-MODIFIED:20250527T123746Z
UID:141969-1740042000-1740157200@events.srmap.edu.in
SUMMARY:AMEYA’25: Are You Ready For a Challenging B-Fest?
DESCRIPTION:Paari School of Business is organising the much-awaited Management Mavericks Meet\, Ameya’25 on February 20-21\, 2025. The fest will encompass 9 formal and 6 informal events aimed at engaging students with an expected footfall of 9000 Students\, professionals\, and businesses. Remarkable prizes worth Rs 1.75 Lakh await the champions of each competition and event. \nThis is your chance to network\, showcase skills\, and steer collaboration among participants. \nCome join Ameya’25! \nStrategise. Synergise. Succeed. \nFormal Events:- \n\nAuctor – (The Business Quiz) – The Inquirer\nInnovarix – (Entrepreneurship Development) – The Change Agent\nGuardian – (Human Resources) – The Employee Advocate\nAurea – (Wealth Management) – The Wealth Creator\nImpresario – (Marketing) – The Marketing Maestro\nLegatus – (Public Relations) – The Diplomat\nAgitrus – (Best Manager) – The Skilled Leader\n\nInformal Events:- \n\nIPL Auction\nReel It\nOpen Mic/Stand Up Comedy\nBiz Hunt\nMr & Ms Ameya\neSports\n\nEvents (Intermediate Level):- \n\nVyaparavritanta (Tell Your Business Story)\nDattanshashyeekaranam (Data Visualisation)\n\nMedia Coverage for the Event
URL:https://events.srmap.edu.in/event/ameya25-are-you-ready-for-a-challenging-b-fest/
CATEGORIES:Departmental Events,Events,Management Events
END:VEVENT
END:VCALENDAR