BEGIN:VCALENDAR
VERSION:2.0
PRODID:-//SRMAP Events - ECPv6.15.11//NONSGML v1.0//EN
CALSCALE:GREGORIAN
METHOD:PUBLISH
X-WR-CALNAME:SRMAP Events
X-ORIGINAL-URL:https://events.srmap.edu.in
X-WR-CALDESC:Events for SRMAP Events
REFRESH-INTERVAL;VALUE=DURATION:PT1H
X-Robots-Tag:noindex
X-PUBLISHED-TTL:PT1H
BEGIN:VTIMEZONE
TZID:Asia/Kolkata
BEGIN:STANDARD
TZOFFSETFROM:+0530
TZOFFSETTO:+0530
TZNAME:IST
DTSTART:20250101T000000
END:STANDARD
END:VTIMEZONE
BEGIN:VEVENT
DTSTART;TZID=Asia/Kolkata:20260206T080000
DTEND;TZID=Asia/Kolkata:20260206T170000
DTSTAMP:20260421T182323
CREATED:20260206T134050Z
LAST-MODIFIED:20260209T060506Z
UID:145323-1770364800-1770397200@events.srmap.edu.in
SUMMARY:Commerce & Management Education : Career Opportunities
DESCRIPTION:The Department of Commerce and Management is organising a webinar on Commerce & Management Education: Career Opportunities. The event will be led by Dr A Lakshmana Rao\, Associate Professor & HOD-Commerce. The webinar will cover areas like Management education and share insights on how the knowledge of commerce and management is essential in the current. \nWe look forward to your active participation!
URL:https://events.srmap.edu.in/event/commerce-management-education-career-opportunities/
CATEGORIES:Homepage Events,Management Events,Webinars
ATTACH;FMTTYPE=image/jpeg:https://events.srmap.edu.in/wp-content/uploads/2026/02/Dr-A-Lakshmana-Rao.jpg
END:VEVENT
BEGIN:VEVENT
DTSTART;TZID=Asia/Kolkata:20260211T090000
DTEND;TZID=Asia/Kolkata:20260212T170000
DTSTAMP:20260421T182323
CREATED:20260204T105028Z
LAST-MODIFIED:20260204T105106Z
UID:145310-1770800400-1770915600@events.srmap.edu.in
SUMMARY:AMEYA 2026
DESCRIPTION:AMEYA 2026\, the flagship business fest organised by the Paari School of Business\, is scheduled for February 11–12\, 2026. Bringing together students and professionals from across all management specialisation\, AMEYA focuses on leadership\, entrepreneurship\, innovation\, and strategic thinking\, while creating a strong platform for industry–academia interaction. \nAMEYA also enables startups and organizations to engage with young talent\, exchange ideas\, and build long-term partnerships\, making it a landmark event in the region’s academic and business ecosystem. \nFeaturing a dynamic mix of formal\, informal events and events students for +1 students\, AMEYA includes business competitions\, workshops\, simulations\, networking sessions\, panel discussions\, and skill-based challenges. The fest offers a vibrant environment for learning\, collaboration\, and talent showcase\, effectively bridging the gap between academic knowledge and real-world business practices\, while equipping participants with practical insights and industry exposure. \nFormal Events \n\nShark Tank\nB-Quiz\nStock Simulation\nMarketing Case Study\nBest Manager\n\nInformal Events \n\nIPL Auction\nPoster Making\nMr & Ms Ameya\nE-sports\nTug of War\nSmashKart\n\nEvents for +1 students \n\nBusiness Idea and Its Structure\nData Visualization\n\nRegistration Fee & Details \nIndividual Event – ₹230/- per person \nCombo Pass (excludes Esports) – ₹400/- per person \nEsports event – ₹500/- per team \nPlatform charges and +1 Events fees – ₹ 200/-
URL:https://events.srmap.edu.in/event/ameya-2026/
CATEGORIES:Events,Homepage Events,Management Events,University Event
ATTACH;FMTTYPE=image/png:https://events.srmap.edu.in/wp-content/uploads/2026/02/ameya.png
END:VEVENT
BEGIN:VEVENT
DTSTART;TZID=Asia/Kolkata:20260219T120000
DTEND;TZID=Asia/Kolkata:20260219T150000
DTSTAMP:20260421T182323
CREATED:20260216T092810Z
LAST-MODIFIED:20260217T054528Z
UID:145372-1771502400-1771513200@events.srmap.edu.in
SUMMARY:PSB Guest Talk on India’s Digital Payments Revolution
DESCRIPTION:Paari School of Business is organising a pre-event guest talk titled “Driving India’s Digital Payments Revolution: Ecosystem\, Technology\, Risks\, and Policy” on 19 February 2026\, aimed at preparing students and faculty for deeper engagement with India’s rapidly evolving digital finance landscape.\nThe session will introduce participants to key themes shaping India’s digital payments ecosystem\, including technological innovations\, regulatory frameworks\, cybersecurity concerns\, and policy developments.\nThe talk will be delivered by Dr Srinivas Yanamandra\, Professor of Practice at Institute for Development and Research in Banking Technology (IDRBT). Drawing on his expertise in banking technology and financial systems\, he will provide insights into how digital payment infrastructure is transforming financial inclusion\, consumer behavior\, and institutional practices in India.The talk is designed to help attendees build contextual understanding ahead of upcoming academic and industry engagements\, while also offering an opportunity to interact with a domain expert and explore career and research perspectives in fintech\, digital banking\, and financial policy.
URL:https://events.srmap.edu.in/event/psb-guest-talk-on-indias-digital-payments-revolution/
LOCATION:C-503\, C V Raman Block
CATEGORIES:Departmental Events,Homepage Events,Management Events
ATTACH;FMTTYPE=image/png:https://events.srmap.edu.in/wp-content/uploads/2026/02/PSB-Talk.png
END:VEVENT
BEGIN:VEVENT
DTSTART;TZID=Asia/Kolkata:20260226T120000
DTEND;TZID=Asia/Kolkata:20260226T130000
DTSTAMP:20260421T182323
CREATED:20260224T163231Z
LAST-MODIFIED:20260225T070319Z
UID:145429-1772107200-1772110800@events.srmap.edu.in
SUMMARY:Talk on Internet Adoption\, Gender and Productivity in Informal Firms
DESCRIPTION:Paari School of Business (PSB) is organising an External Research Talk on “Internet Adoption\, Gender and Productivity in Informal Firms in India” on February 26\, 2026. The talk will be delivered by Ms Jayati Chatterjee\, Research scholar at IIT Madras. \nUsing nationally representative data from 2010 to 2023\, the study analyses the impact of internet adoption on firm productivity in India’s unorganised sector\, with a particular focus on gender differences. The findings reveal that internet adoption leads to an average increase of 28 percent in firm productivity. However\, a substantial gender productivity gap remains\, as female-owned enterprises exhibit nearly 48 percent lower productivity compared to male-owned firms. Notably\, female-led enterprises that adopt internet technology experience a 23 percent increase in productivity\, which helps narrow the productivity gap relative to firms that do not adopt the internet. These results underscore the significant role of digital technology in enhancing productivity and fostering gender-inclusive growth within the informal sector. \nAbout the Speaker \nMs Jayati Chatterjee is a research scholar in Economics at IIT Madras\, specializing in development economics and industrial organisation. Her research focuses on digital technology adoption among small firms\, with an emphasis on gender. Her work has been published in top peer-reviewed journals\, and she has presented her research at international conferences\, including those organized by the Asian Development Bank (ADB)\, the Asian Development Bank Institute (ADBI)\, and the University of Tokyo. She received the Best Paper Award at ICMM 2024\, held at IIM Amritsar.
URL:https://events.srmap.edu.in/event/talk-on-internet-adoption-gender-and-productivity-in-informal-firms/
LOCATION:C-503\, C V Raman Block
CATEGORIES:Departmental Events,Events,Homepage Events,Management Events
ATTACH;FMTTYPE=image/png:https://events.srmap.edu.in/wp-content/uploads/2026/02/Untitled-design-4.png
END:VEVENT
END:VCALENDAR