BEGIN:VCALENDAR
VERSION:2.0
PRODID:-//SRMAP Events - ECPv6.15.11//NONSGML v1.0//EN
CALSCALE:GREGORIAN
METHOD:PUBLISH
X-WR-CALNAME:SRMAP Events
X-ORIGINAL-URL:https://events.srmap.edu.in
X-WR-CALDESC:Events for SRMAP Events
REFRESH-INTERVAL;VALUE=DURATION:PT1H
X-Robots-Tag:noindex
X-PUBLISHED-TTL:PT1H
BEGIN:VTIMEZONE
TZID:Asia/Kolkata
BEGIN:STANDARD
TZOFFSETFROM:+0530
TZOFFSETTO:+0530
TZNAME:IST
DTSTART:20240101T000000
END:STANDARD
END:VTIMEZONE
BEGIN:VEVENT
DTSTART;TZID=Asia/Kolkata:20251024T113000
DTEND;TZID=Asia/Kolkata:20251024T123000
DTSTAMP:20260422T021223
CREATED:20251024T065914Z
LAST-MODIFIED:20251024T071938Z
UID:144860-1761305400-1761309000@events.srmap.edu.in
SUMMARY:Guest Talk on Decoding Product Management
DESCRIPTION:Paari School of Business is organising a Guest Lecture on “Decoding Product Management” by Mr Ram Kandarpa\, Consultant\, Infosys. \nMr Ram Kandarpa has 20 years+ experience in Managing Complex SAP Projects and 8 years of domain experience in Sales and Marketing. He has worked with Infosys\, Tech Mahindra\, Genpact\, Wipro\, Kirloskar Oil Engines\, Videocon with Multi Culture Consultants / customers / business users. \nJoin the talk for an insightful session!
URL:https://events.srmap.edu.in/event/guest-talk-on-decoding-product-management/
LOCATION:C-503\, C V Raman Block
CATEGORIES:Departmental Events,Events,Homepage Events,Management Events
ATTACH;FMTTYPE=image/png:https://events.srmap.edu.in/wp-content/uploads/2025/10/PSB-2-min.png
END:VEVENT
END:VCALENDAR