BEGIN:VCALENDAR
VERSION:2.0
PRODID:-//SRMAP Events - ECPv6.15.11//NONSGML v1.0//EN
CALSCALE:GREGORIAN
METHOD:PUBLISH
X-ORIGINAL-URL:https://events.srmap.edu.in
X-WR-CALDESC:Events for SRMAP Events
REFRESH-INTERVAL;VALUE=DURATION:PT1H
X-Robots-Tag:noindex
X-PUBLISHED-TTL:PT1H
BEGIN:VTIMEZONE
TZID:Asia/Kolkata
BEGIN:STANDARD
TZOFFSETFROM:+0530
TZOFFSETTO:+0530
TZNAME:IST
DTSTART:20240101T000000
END:STANDARD
END:VTIMEZONE
BEGIN:VEVENT
DTSTART;TZID=Asia/Kolkata:20250520T110000
DTEND;TZID=Asia/Kolkata:20250520T123000
DTSTAMP:20260420T111417
CREATED:20250519T011700Z
LAST-MODIFIED:20250529T112247Z
UID:142072-1747738800-1747744200@events.srmap.edu.in
SUMMARY:Webinar on Exploring Master’s in Mathematics
DESCRIPTION:The Department of Mathematics will host a webinar titled “From Passion to Profession: Exploring Master’s in Mathematics” on May 20\, 2025. The webinar will centre on finding the intellectual and creative riches of advanced mathematics. Prof. Kalyan Chakraborty\, Professor and Head of Mathematics\, and Prof. V Kannan\, Professor of event. \nThe webinar intends to let math enthusiasts understand more about SRM University-AP’s Masters in ‘Mathematics’ program and its distinctive characteristics. It also facilitates the exploration of a variety of career paths\, such as doctorate research\, data science\, finance\, artificial intelligence\, and others.The webinar will also include an interesting live Q&A session with top faculty members who will answer any questions about the programme.
URL:https://events.srmap.edu.in/event/webinar-on-exploring-masters-in-mathematics/
LOCATION:Zoom
CATEGORIES:Departmental Events,Events,Math Events,Webinars
END:VEVENT
END:VCALENDAR