BEGIN:VCALENDAR
VERSION:2.0
PRODID:-//SRMAP Events - ECPv6.15.11//NONSGML v1.0//EN
CALSCALE:GREGORIAN
METHOD:PUBLISH
X-WR-CALNAME:SRMAP Events
X-ORIGINAL-URL:https://events.srmap.edu.in
X-WR-CALDESC:Events for SRMAP Events
REFRESH-INTERVAL;VALUE=DURATION:PT1H
X-Robots-Tag:noindex
X-PUBLISHED-TTL:PT1H
BEGIN:VTIMEZONE
TZID:Asia/Kolkata
BEGIN:STANDARD
TZOFFSETFROM:+0530
TZOFFSETTO:+0530
TZNAME:IST
DTSTART:20240101T000000
END:STANDARD
END:VTIMEZONE
BEGIN:VEVENT
DTSTART;VALUE=DATE:20251110
DTEND;VALUE=DATE:20251115
DTSTAMP:20260420T014726
CREATED:20251107T052024Z
LAST-MODIFIED:20251111T075010Z
UID:144983-1762732800-1763164799@events.srmap.edu.in
SUMMARY:Symposium on Operators in Harmonic Analysis (SOHA – 2025)
DESCRIPTION:The Department of Mathematics is organising a Symposium on Operators in Harmonic Analysis- SOHA 2025. The five-day symposium will offer an in-depth exposition towards the rich and intriguing interplay of Operator Theory and Harmonic Analysis. \nThe symposium is designed for young researchers engaged in Functional Analysis\, with the objective of familiarising attendees with various intersections of this discipline. The symposium will also feature foundational introductions\, in-depth insights into recent developments\, and an overview of the research areas under these sections. \nThe conference will feature invited and keynote addresses by distinguished professors and experts in the field of Mathematics\, including Prof. E. K. Narayanan\, IISc\, Bangalore; Prof. Jaydeb Sarkar\, ISI\, Bangalore; and Prof. Sameer Chavan\, IIT Kanpur; Prof. Sivananthan Sampath\, IIT Delhi; Prof. Rahul Garg\, IISER Bhopal. \nThe collective expertise of the speakers and participants will ensure an intellectually enriching experience for all attendees. \nFor more details on the conference visit the Conference Website. \nWe look forward to your active participation in making SOHA – 2025 a grand success. \n 
URL:https://events.srmap.edu.in/event/symposium-on-operators-in-harmonic-analysis-soha-2025/
LOCATION:APJ Abdul Kalam Auditorium
CATEGORIES:Departmental Events,Homepage Events,Math Events
END:VEVENT
BEGIN:VEVENT
DTSTART;VALUE=DATE:20251125
DTEND;VALUE=DATE:20251129
DTSTAMP:20260420T014726
CREATED:20251107T041849Z
LAST-MODIFIED:20251107T041849Z
UID:144980-1764028800-1764374399@events.srmap.edu.in
SUMMARY:LADIME -2025
DESCRIPTION:The Department of Mathematics is organising an International Conference on Language Diversity and Mathematics Education (LADIME – 2025). This three-day international conference aims to explore the crucial role that language plays in the teaching and learning of mathematics\, across the following five thematic areas: \nTheme 1: Teaching Mathematics in Diverse Language Contexts\nTheme 2: Teacher Education for Diverse Language Contexts\nTheme 3: Researching Mathematics Teaching and Learning in Multilingual Contexts\nTheme 4: Mathematics\, Language Diversity and Society\nTheme 5: Student Mathematics Learning and Experiences in Multilingual Classrooms \nThe primary objective of the conference is to bring together educators\, researchers\, and policymakers from around the world to share insights\, research findings\, and pedagogical innovations that advance understanding of how linguistic diversity influences mathematics education at various levels of learning. \nThe conference will feature invited and keynote addresses by distinguished professors and experts in the field of Mathematics Education\, along with five thematic panel discussions on: \n\nLanguage in Mathematics Textbooks\nMathematics Teacher Education and Language Diversity\nResearching the Language Question in Mathematics Education\nSociopolitical Factors\, Language and Mathematics Education\nLanguage\, Mathematics and Higher Education\n\nThe collective expertise of the speakers and participants will ensure an intellectually enriching experience for all attendees. \nFor more details on the conference visit the conference website. \nWe look forward to your active participation in making LADIME – 2025 a grand success.
URL:https://events.srmap.edu.in/event/ladime-2025/
LOCATION:APJ Abdul Kalam Auditorium
CATEGORIES:Homepage Events,Math Events
ATTACH;FMTTYPE=image/png:https://events.srmap.edu.in/wp-content/uploads/2025/11/Language-Diversity-and-Mathematics-Education-LADIME-1920-x-1080-px.png
END:VEVENT
END:VCALENDAR