BEGIN:VCALENDAR
VERSION:2.0
PRODID:-//SRMAP Events - ECPv6.15.11//NONSGML v1.0//EN
CALSCALE:GREGORIAN
METHOD:PUBLISH
X-ORIGINAL-URL:https://events.srmap.edu.in
X-WR-CALDESC:Events for SRMAP Events
REFRESH-INTERVAL;VALUE=DURATION:PT1H
X-Robots-Tag:noindex
X-PUBLISHED-TTL:PT1H
BEGIN:VTIMEZONE
TZID:Asia/Kolkata
BEGIN:STANDARD
TZOFFSETFROM:+0530
TZOFFSETTO:+0530
TZNAME:IST
DTSTART:20240101T000000
END:STANDARD
END:VTIMEZONE
BEGIN:VEVENT
DTSTART;TZID=Asia/Kolkata:20250606T133000
DTEND;TZID=Asia/Kolkata:20250606T143000
DTSTAMP:20260420T110455
CREATED:20250725T113156Z
LAST-MODIFIED:20251029T093538Z
UID:144169-1749216600-1749220200@events.srmap.edu.in
SUMMARY:Prof. Jugal Kishore Delivers Lecture on Polynomials
DESCRIPTION:The Department of Mathematics is organising a Departmental Distinguished Lecture by Prof. Jugal K Vema. The lecture on Real roots of real polynomials\, the real nullstellensatz and Hilbert’s 17th problem will discuss topics on counting real roots of real polynomials\, including: \n(1) The Pedersen-Roy-Szpirglass theorem about counting real roots of real polynomials \n(2) The classical theorem of C. Hermite for counting real roots of a real polynomial. \n(3) The real nullstellensatz and Hilbert’s seventeenth problem \nAbout the Speaker: \nProf. Jugal K Verma was a visiting professor in the Mathematics department at IIT Gandhinagar. He retired as a Professor in the Department of Mathematics at IIT Bombay. During his time at IIT Bombay\, he served as a visiting professor in various institutes and universities across the world. He was the Dean of Faculty Affairs\, Institute Chair Professor\, and Head of the National Centre for Mathematics at IIT Bombay. He was selected as a fellow of various scientific academies\, such as the International Centre for Theoretical Physics\, National Academy of Sciences\, and Indian National Science Academy. He received many awards\, including the Ramanujan Memorial Award Lecture from the Indian Mathematical Society\, the IIT Bombay Excellence in Teaching Award (Mathematics)\, the S P Sukhatme Institute Excellence in Teaching Award\, and the S C Bhattacharya award for pure sciences at IIT Bombay. \nJoin the lecture for an insightful discussion on real roots of real polynomials.
URL:https://events.srmap.edu.in/event/prof-jugal-kishore-delivers-lecture-on-polynomials/
LOCATION:202 C V Raman Block
CATEGORIES:Events,Math Events
ATTACH;FMTTYPE=image/png:https://events.srmap.edu.in/wp-content/uploads/2025/07/Mathematics-1-1.png
END:VEVENT
END:VCALENDAR