BEGIN:VCALENDAR
VERSION:2.0
PRODID:-//SRMAP Events - ECPv6.15.11//NONSGML v1.0//EN
CALSCALE:GREGORIAN
METHOD:PUBLISH
X-WR-CALNAME:SRMAP Events
X-ORIGINAL-URL:https://events.srmap.edu.in
X-WR-CALDESC:Events for SRMAP Events
REFRESH-INTERVAL;VALUE=DURATION:PT1H
X-Robots-Tag:noindex
X-PUBLISHED-TTL:PT1H
BEGIN:VTIMEZONE
TZID:Asia/Kolkata
BEGIN:STANDARD
TZOFFSETFROM:+0530
TZOFFSETTO:+0530
TZNAME:IST
DTSTART:20240101T000000
END:STANDARD
END:VTIMEZONE
BEGIN:VEVENT
DTSTART;TZID=Asia/Kolkata:20251211T093000
DTEND;TZID=Asia/Kolkata:20251211T153000
DTSTAMP:20260422T052841
CREATED:20251210T113959Z
LAST-MODIFIED:20251210T113959Z
UID:145082-1765445400-1765467000@events.srmap.edu.in
SUMMARY:National Mathematics Day 2025 Celebrations
DESCRIPTION:The Department of Mathematics has organised to celebrate National Mathematics Day on December 11\, 2025. On this occasion\, the department will conduct two talks\, fun and constructive math activities for school students from neighbouring schools. \nThe event will feature two lectures: \nSpeaker: Dr Kalyan Banerjee\, Assistant Professor\, Dept. of Mathematics \nTitle of the Talk: Partition functions and Ramanujan’s work \nTime: 10:00 AM – 10:45 AM \n  \nSpeaker: Prof. Jayasree Subramanian\, Associate Professor\, Dept. of Mathematics \nTitle of the talk: “Maryam Mirzakhani: A Mathematician and a Woman of Many Firsts” \nTime: 12:00 PM – 12:45 PM
URL:https://events.srmap.edu.in/event/national-mathematics-day-2025-celebrations/
LOCATION:Tiered Classroom\, 5th Floor\, Admin Block
CATEGORIES:Departmental Events,Events,Homepage Events,Math Events
ATTACH;FMTTYPE=image/png:https://events.srmap.edu.in/wp-content/uploads/2025/12/Mathematics-1-min.png
END:VEVENT
BEGIN:VEVENT
DTSTART;TZID=Asia/Kolkata:20260314T100000
DTEND;TZID=Asia/Kolkata:20260314T120000
DTSTAMP:20260422T052841
CREATED:20260309T042944Z
LAST-MODIFIED:20260309T042944Z
UID:145520-1773482400-1773489600@events.srmap.edu.in
SUMMARY:Pi-Day Celebrations with Insightful Sessions
DESCRIPTION:The Department of Mathematics is celebrating Pi Day on March 14\, 2026\, to raise awareness about the importance of mathematics and its role in shaping our world\, as well as to promote the beauty and relevance of mathematics. \nThe event will feature two sessions from the faculty members of the Department of Mathematics. Dr Sazzad Ali Biswas will deliver a session titled “Beyond 3.14: Why π Matters in Mathematics and Life” and Dr Ranjana Mehtawill deliver a session titled “The Theorem Tales”. \nJoin the programme and delve into the world of mathematics!
URL:https://events.srmap.edu.in/event/pi-day-celebrations-with-insightful-sessions/
LOCATION:Tiered Classroom\, 5th Floor\, Admin Block
CATEGORIES:Departmental Events,Events,Homepage Events,Math Events
ATTACH;FMTTYPE=image/png:https://events.srmap.edu.in/wp-content/uploads/2026/03/PI-Day-1.png
END:VEVENT
END:VCALENDAR