BEGIN:VCALENDAR
VERSION:2.0
PRODID:-//SRMAP Events - ECPv6.15.11//NONSGML v1.0//EN
CALSCALE:GREGORIAN
METHOD:PUBLISH
X-WR-CALNAME:SRMAP Events
X-ORIGINAL-URL:https://events.srmap.edu.in
X-WR-CALDESC:Events for SRMAP Events
REFRESH-INTERVAL;VALUE=DURATION:PT1H
X-Robots-Tag:noindex
X-PUBLISHED-TTL:PT1H
BEGIN:VTIMEZONE
TZID:Asia/Kolkata
BEGIN:STANDARD
TZOFFSETFROM:+0530
TZOFFSETTO:+0530
TZNAME:IST
DTSTART:20240101T000000
END:STANDARD
END:VTIMEZONE
BEGIN:VEVENT
DTSTART;TZID=Asia/Kolkata:20251212T090000
DTEND;TZID=Asia/Kolkata:20251214T170000
DTSTAMP:20260421T182256
CREATED:20251119T100035Z
LAST-MODIFIED:20251119T100035Z
UID:144999-1765530000-1765731600@events.srmap.edu.in
SUMMARY:International Conference on Advances in Materials\, Design and Manufacturing
DESCRIPTION:The Department of Mechanical Engineering is organising an International Conference on Advances in Materials\, Design and Manufacturing (ICAMDM-2025) on December 12-14\, 2025. \nICAMDM-2025 aims to provide an ideal platform to delve into and expand knowledge on theoretical\, numerical\, and experimental developments in Mechanics\, Materials\, and Manufacturing by bringing together researchers\, scientists\, engineers\, industry experts\, scholars\, and students. \nMany researchers continue to work in the fields of Mechanics\, Materials and Manufacturing with the scope of interdisciplinary/interconnected research work. This conference provides an opportunity for researchers to present their work\, connect with the other scholars and publish their work in Scopus indexed proceedings. \nAn advanced manufacturing hands on workshop will also be held at ICAMDM-2025. \nFor more details\, visit – https://www.srmap.edu.in/icamdm-2025/
URL:https://events.srmap.edu.in/event/international-conference-on-advances-in-materials-design-and-manufacturing/
CATEGORIES:Departmental Events,Events,Homepage Events,Mechanical Engineering,Research Conferences
ATTACH;FMTTYPE=image/png:https://events.srmap.edu.in/wp-content/uploads/2025/11/icamdm-min.png
END:VEVENT
END:VCALENDAR