BEGIN:VCALENDAR
VERSION:2.0
PRODID:-//SRMAP Events - ECPv6.15.11//NONSGML v1.0//EN
CALSCALE:GREGORIAN
METHOD:PUBLISH
X-ORIGINAL-URL:https://events.srmap.edu.in
X-WR-CALDESC:Events for SRMAP Events
REFRESH-INTERVAL;VALUE=DURATION:PT1H
X-Robots-Tag:noindex
X-PUBLISHED-TTL:PT1H
BEGIN:VTIMEZONE
TZID:Asia/Kolkata
BEGIN:STANDARD
TZOFFSETFROM:+0530
TZOFFSETTO:+0530
TZNAME:IST
DTSTART:20190101T000000
END:STANDARD
END:VTIMEZONE
BEGIN:VEVENT
DTSTART;TZID=Asia/Kolkata:20210615T160000
DTEND;TZID=Asia/Kolkata:20210615T170000
DTSTAMP:20260421T151145
CREATED:20210613T090300Z
LAST-MODIFIED:20250623T064356Z
UID:142079-1623772800-1623776400@events.srmap.edu.in
SUMMARY:Why Join Mechanical or CIvil Engineering at SRM University AP
DESCRIPTION:SRM University\, AP\, Andhra Pradesh\, has established a distinct standard since its inception in 2017 and accepts outstanding students from across India and abroad. Concerning admissions for the academic year 2021-2022\, the Department of Mechanical and Civil Engineering is hosting an online discussion titled “Why Join Mechanical or Civil Engineering at SRM University?” on June 15\, 2021\, at 4 pm to enlighten applicants about the benefits of joining the BTech program and how they can benefit from the university. The goal is to offer the course nuances and openings for a brilliant career. The Department of Mechanical Engineering offers a B. Tech in Mechanical Engineering\, summer internships and exposure to research projects through the Undergraduate Research Opportunity Program (UROP). The Department of Civil Engineering provides the B. Tech Degree in Civil Engineering with an opportunity to visit the fields as a part of practical and training for placements with top construction companies. \nMechanical and civil engineering are rising career openings which need strong subject mastery and practical skills. SRM University\, AP is the leader in providing undergrad courses led by a 100% efficient team of faculty with research insight and global exposure. The challenging educational curriculum makes you stand out and reach the top career areas in the respective domain. SRM University\, AP’s global academic standards aim to eliminate the repetitive educational framework and provide students with a high-quality education. The courses include lecture sessions and lab work in the profoundly specialized research laboratories inside the group\, as it is the key job of an aspiring engineer. Students here work on innovative research projects\, and outstanding students are frequently rewarded with seed money\, patent support\, convention travel allowances\, and other perks. It collaborates with universities to send students on study abroad programs. Faculty collaborate with students on research projects and guide them in developing innovative inventions for the community. Students are very well prepared to effectively be placed in the top private and government sectors. The interdisciplinary research culture at SRM University\, AP takes care of different issues found in society through inventive products and designs. More than 500 companies visited the campus\, and 95 percent of B.Tech students were placed in top companies both in and out of India. The curriculum primarily focusses on the knowledge and skills that an engineer needs to possess.
URL:https://events.srmap.edu.in/event/why-join-mechanical-or-civil-engineering-at-srm-university-ap/
CATEGORIES:Admission Events - Domestic,Events,Mechanical Engineering
END:VEVENT
BEGIN:VEVENT
DTSTART;TZID=Asia/Kolkata:20210304T180000
DTEND;TZID=Asia/Kolkata:20210304T190000
DTSTAMP:20260421T151145
CREATED:20210304T043700Z
LAST-MODIFIED:20250528T123825Z
UID:142075-1614880800-1614884400@events.srmap.edu.in
SUMMARY:Dr Jaganmohan Rao speaks on Automotive NVH- Future Challenges
DESCRIPTION:Department of Mechanical Engineering welcomes Dr Jaganmohan Rao\, Divisional Manager\, Ashok Leyland\, Chennai\, on a Webinar to enlighten the students on ” Automotive NVH (Noise\, Vibration and Harshness) – Future Challenges”. The webinar is scheduled for March 04\, 2021\, at 6 pm. In his speech\, Dr Rao will concentrate on the Basics of Automotive Noise and Vibration\, NVH Development Process in Industry\, NVH Tools and Techniques and Vehicle and Systems NVH. \nDr Jaganmohan Rao is an automotive professional with twenty years of vehicle development and testing experience in major automotive companies such as – Ashok Leyland\, Cummins\, Hero Honda and TVS motor) in India. He has been the Project Manager for many new product developments in Ashok Leyland in the NVH Domain. He further has Six Sigma Green belt and Black Belt certifications. Dr Rao was the TQBM Coordinator for Product development and a key member of Institute and Industry Relation Developments. \nDr Rao has obtained his PhD in Mechanical Engineering from the National Institutes of Technology (NIT)\, Trichy. He is a veteran in the field of Noise Vibration and Harshness (NVH). Prior to his doctoral studies\, Dr Rao did M.S. in Applied Mechanics from the Indian Institute of Technology (IIT)\, Madras. His bachelor studies in Mechanical Engineering was pursued from Jawaharlal Nehru Technological University\, Kakinada\, Andra Pradesh. He has published 14 papers in international Journals and Conferences. He is the proud owner of 2 patents in Electric vehicle fan design. As a Research Supervisor\, he has guided 10 B.Tech and 2 M.Tech Projects. Dr Rao further owns a first level TRIZ certificate from The International TRIZ Association. \nJoin the thought-provoking session today to groom yourself for the challenges of tomorrow.
URL:https://events.srmap.edu.in/event/dr-jaganmohan-rao-speaks-on-automotive-nvh-future-challenges/
CATEGORIES:Departmental Events,Events,Mechanical Engineering,Webinars
END:VEVENT
BEGIN:VEVENT
DTSTART;TZID=Asia/Kolkata:20200415T180000
DTEND;TZID=Asia/Kolkata:20200415T190000
DTSTAMP:20260421T151145
CREATED:20210412T014600Z
LAST-MODIFIED:20250528T123838Z
UID:142077-1586973600-1586977200@events.srmap.edu.in
SUMMARY:"Applications of Artificial Intelligence in Aerospace Engineering"-in discussion with Dr B V N Ramakumar
DESCRIPTION:Department of Mechanical Engineering invites Dr B V N Ramakumar\, Professor and Chairman\, Department of Aerospace Engineering\, Dayananda Sagar University\, to deliver a talk on Thursday\, Apr 15\, 2021 at 6 pm. He will speak on the captivating “Applications of Artificial Intelligence in Aerospace Engineering”. \nArtificial Intelligence (AI) is used in a wide variety of applications\, including the Aerospace Industries. This talk aims to discuss existing and upcoming applications in various areas like Airport Management\, Aircraft Design and Engineering and Space Engineering. Various stakeholders in the aircraft and spacecraft industry and their active implementation of AI in their respective products are discussed. This talk also covers present challenges in AI implementation. \nDr B V N Ramakumar is a renowned name in the domain of Aerospace Engineering. The alumnus of the Indian Institute of Technology Madras pursued his doctoral studies in Turbomachinery there. Prior to that\, he received his Master’s degree from Ranchi University and Bachelor’s degree from Andhra University. Before joining Dayananda Sagar University\, he served for 12 years at Rolls-Royce India Pvt. Ltd\, Honeywell Technology Solutions Pvt. Ltd.\, GMR Institute of Technology and MWP Migma Ltd. He also worked as a visiting faculty to UVCE and Manipal University. He made his contributions in product design & development and analysis of various components for Boeing 777X\, Airbus A350 and Honeywell’s HTF7000 engine programs. He has published several research articles in reputed National/International Journals & Conferences. He is a reviewer for prestigious Journals & Conferences. Dr Ramakumar also has one defensive publication and two patents to his credit. His areas of interest include gas turbine propulsion\, turbomachinery\, turbine aerodynamics and cooling technologies\, augmented heat transfer\, CFD and Systems Engineering. At present\, he is heading the Department of Aerospace Engineering at Dayananda Sagar University. \nAvail the opportunity to broaden your knowledge in Artificial Intelligence and Aerospace Engineering- the two most sought after areas for jobs\, research and higher studies. Join the webinar on Apr 15 at 6 pm.
URL:https://events.srmap.edu.in/event/applications-of-artificial-intelligence-in-aerospace-engineering-in-discussion-with-dr-b-v-n-ramakumar/
CATEGORIES:Departmental Events,Events,Mechanical Engineering,Webinars
END:VEVENT
END:VCALENDAR