BEGIN:VCALENDAR
VERSION:2.0
PRODID:-//SRMAP Events - ECPv6.15.11//NONSGML v1.0//EN
CALSCALE:GREGORIAN
METHOD:PUBLISH
X-ORIGINAL-URL:https://events.srmap.edu.in
X-WR-CALDESC:Events for SRMAP Events
REFRESH-INTERVAL;VALUE=DURATION:PT1H
X-Robots-Tag:noindex
X-PUBLISHED-TTL:PT1H
BEGIN:VTIMEZONE
TZID:Asia/Kolkata
BEGIN:STANDARD
TZOFFSETFROM:+0530
TZOFFSETTO:+0530
TZNAME:IST
DTSTART:20220101T000000
END:STANDARD
END:VTIMEZONE
BEGIN:VEVENT
DTSTART;TZID=Asia/Kolkata:20231016T090000
DTEND;TZID=Asia/Kolkata:20231020T170000
DTSTAMP:20260421T200210
CREATED:20231109T033400Z
LAST-MODIFIED:20250703T112124Z
UID:142585-1697446800-1697821200@events.srmap.edu.in
SUMMARY:Field Visit for Environmental Awareness
DESCRIPTION:The Department of Environmental Science and Engineering organised a field visit for first-year odd semester students as a part of their Environmental Science course (VAC-101) from October 16-20\, 2023 around the vicinity of SRM University-AP campus. The students were made aware of the surrounding land-uses\, their biodiversity\, impacts and importance to the environment. Observations were made on different threats like pollution\, plant invasion\, fertilizer run-off\, etc. and the students were explained what can be done as an individual and as a community to protect our resources. Practical know-hows on vegetation and water sampling were also demonstrated by different faculty members. The students returned with a heightened sense of stewardship towards environmental protection.
URL:https://events.srmap.edu.in/event/field-visit-for-environmental-awareness/
CATEGORIES:Departmental News,ENVS News,News
END:VEVENT
END:VCALENDAR