BEGIN:VCALENDAR
VERSION:2.0
PRODID:-//SRMAP Events - ECPv6.15.11//NONSGML v1.0//EN
CALSCALE:GREGORIAN
METHOD:PUBLISH
X-ORIGINAL-URL:https://events.srmap.edu.in
X-WR-CALDESC:Events for SRMAP Events
REFRESH-INTERVAL;VALUE=DURATION:PT1H
X-Robots-Tag:noindex
X-PUBLISHED-TTL:PT1H
BEGIN:VTIMEZONE
TZID:Asia/Kolkata
BEGIN:STANDARD
TZOFFSETFROM:+0530
TZOFFSETTO:+0530
TZNAME:IST
DTSTART:20200101T000000
END:STANDARD
END:VTIMEZONE
BEGIN:VEVENT
DTSTART;TZID=Asia/Kolkata:20220407T140000
DTEND;TZID=Asia/Kolkata:20220407T150000
DTSTAMP:20260419T182701
CREATED:20220506T071800Z
LAST-MODIFIED:20250528T123852Z
UID:142413-1649340000-1649343600@events.srmap.edu.in
SUMMARY:Learn the hacks and craft your resume
DESCRIPTION:A resume is your gateway to the exciting opportunities ahead. It manages to pave the way for a variety of career options. Building a resume that can highlight your most attractive skills and experiences is the first step in entering a highly competitive job market. Making yourself visible in a pool of aspirants is the key to grab your chance. A resume is not a mere document but a tool for marketing yourself. Thus\, crafting a resume deserves your time and attention. \nThe Department of Corporate Relations & Career Services is organising the 8th segment of the industry readiness webinar series. The distinguished guest\, Ms Lavanya Karthikheyan\, Regional CPD Leader\, Barry-Wehmiller Design Group\, will deliver a speech on Resume building hacks. \nDate: April 7\, 2022 \nTime: 2.00 pm to 3.00 pm IST
URL:https://events.srmap.edu.in/event/learn-the-hacks-and-craft-your-resume/
CATEGORIES:CR&CS,CR&CS Events,Events,Webinars
END:VEVENT
BEGIN:VEVENT
DTSTART;TZID=Asia/Kolkata:20220326T160000
DTEND;TZID=Asia/Kolkata:20220326T180000
DTSTAMP:20260419T182701
CREATED:20220326T033600Z
LAST-MODIFIED:20250806T124746Z
UID:142411-1648310400-1648317600@events.srmap.edu.in
SUMMARY:Raise yourselves up with the rising industrial expectations
DESCRIPTION:The modern business landscape is experiencing sweeping changes with each passing day\, and so do the expectations in the field. Giving lessons on cutting-edge industrial practices is the need of the hour. Students should be levelled up to remain competitive in entrepreneurship and trained to keep abreast of the latest industry trends. \nThe Department of Corporate Relations and Career Services is bringing forth the fourth session of the Industry Readiness webinar series on the topic “Industry Expectations Today” to give the students an extended perspective on present-day expectations in the business world. \nDate: March 26\, 2022 \nTime: 4.00 pm IST \nAbout the Speaker: \nMr D Eragamani is the founder and director of Maple Tech Solutions\, Hosur. He has 28 years of wide-ranging experience in the industrial domain. Mr Eragamani has worked as the Head of Manufacturing &TQM with major Corporates such as Titan Industries Ltd\, Tyco group\, TERUMOPENPOL LTD and Murugappa group. \nCurrently\, he is running a consultancy and imparting training to industries and startups. He has gathered expertise in training by conducting workshops for MSMEs and Startups on Leadership\, Business Model Canvas\, Improving Leads and Digital Marketing. He has guided and judged several Quality Circle competitions. \nMr Eragamani also had the opportunity to work as an adjunct faculty in VIT School of management\, NIT school of management\, INDUS Business Academy\, IIM-Bangalore etc. He is a member of various reputed organisations such as QCFI – Governing Council Member\, Hosur Chapter; ICT Academy\, Chennai; MMA\, Chennai and many more. He has received numerous awards and accolades including the QCFI Platinum category award at the International forum\, Taiwan and the Business Excellence award for TITAN.
URL:https://events.srmap.edu.in/event/raise-yourselves-up-with-the-rising-industrial-expectations/
CATEGORIES:CR&CS,CR&CS Events,Events
END:VEVENT
BEGIN:VEVENT
DTSTART;TZID=Asia/Kolkata:20220305T150000
DTEND;TZID=Asia/Kolkata:20220305T170000
DTSTAMP:20260419T182701
CREATED:20220305T010000Z
LAST-MODIFIED:20250806T124921Z
UID:142409-1646492400-1646499600@events.srmap.edu.in
SUMMARY:Soar high in the direction of your dream career
DESCRIPTION:The Department of Corporate Relations and Career Services is bringing forth the second edition of the Industry Readiness webinar series on the topic “Dream High…….Go Marquee” to educate the students on orienting their preparation in line with their dream of grabbing placement offers in leading enterprises across the globe. \nStay tuned for an enriching session with Mr Shivaraj and gear yourself up to seize the world’s best career options and opportunities. \nDate: March 05\, 2022 \nTime: 03.00 pm IST \nAbout the Speaker \nMr Shivaraj has over 10 years of experience in campus hiring and early talent acquisition space. His educational background includes Bachelor’s in Food process engineering from TNAU and Master’s from SOIL\, Gurgaon. He has also completed his PhD recently. \nHe has worked in organisations such as AMUL\, SWIGGY and is currently working with media.net\, an ad-tech firm next to Google. At Mnet\, he leads campus hiring for Indian and global companies. \nMr Shivaraj currently lives in Mumbai. He is passionate about education and research. He is an ardent reader and is also inclined towards spirituality. \n 
URL:https://events.srmap.edu.in/event/soar-high-in-the-direction-of-your-dream-career/
CATEGORIES:CR&CS,CR&CS Events,Events
END:VEVENT
BEGIN:VEVENT
DTSTART;TZID=Asia/Kolkata:20220226T100000
DTEND;TZID=Asia/Kolkata:20220226T120000
DTSTAMP:20260419T182701
CREATED:20220225T225900Z
LAST-MODIFIED:20250806T125054Z
UID:142407-1645869600-1645876800@events.srmap.edu.in
SUMMARY:The Future of Technologies
DESCRIPTION:The Department of Corporate Relations and Career Services is bringing forth the first edition of the Industry Readiness webinar series for the students to guide and prepare them to get placed with the top recruiters. \nJoin Mr Joshua David M.D for an exciting session and pave your way to the best possible career option for you. \nDate: February 26\, 2022 \nTime: 10.00 am IST \nAbout the Speaker: \nJoshua has over 16 years of rich experience in the HR function specializing in all aspects of Talent Acquisition which includes Campus Hiring\, Lateral Hiring\, Recruiting Audit & Compliance majorly across Services\, Business Process\, ITES & Aviation industries. \nHis Education background includes Bachelors and Master’s Degree in Labour Management (BLM & MLM) from the reputed Tamilnadu Institute of Labour Studies (TILS) and Masters in Human Resource Management (MHRM) from Pondicherry University. \nHe had earlier been associated with some of the top Multi National organizations like: HCL Technologies | Kingfisher Airlines | Wipro Technologies | Satyam Computers (now Tech Mahindra) | Cognizant Technology Solutions and Hexaware Technologies. \nCurrently\, Joshua is associated with Mphasis\, Chennai since June\, 2021 and is Managing Talent Acquisition – India Campus Hiring (Across BU’s and Functions) \nJoshua is passionate about training and has a wide range of experience in addressing and grooming future aspiring students and educate them on the significance of understanding the basis in whatever they do. Through this initiative he has addressed more than 1 Lac students across India. \nJoshua has also been associated with Professional HR Forums like NHRD\, NIPM\, CHROMA and HR Sangam. He is also the Executive Committee member at CHROMA
URL:https://events.srmap.edu.in/event/the-future-of-technologies/
CATEGORIES:CR&CS,CR&CS Events,Events
END:VEVENT
BEGIN:VEVENT
DTSTART;TZID=Asia/Kolkata:20211204T140000
DTEND;TZID=Asia/Kolkata:20211204T150000
DTSTAMP:20260419T182701
CREATED:20211203T040600Z
LAST-MODIFIED:20250806T125724Z
UID:142405-1638626400-1638630000@events.srmap.edu.in
SUMMARY:"The gateway to financial freedom" with Mr Rajnikanth C S
DESCRIPTION:It is well accepted that there is a growing need for Industry academics tie-up to enable the students pursuing academics to understand the practical aspects of the industry simultaneously with their academic career. Hence\, the Department of Corporate Relations and Career Services (CR&CS) at SRM University-AP is bringing in Corporate Trainer\, Mr Rajanikanth C.S. on December 04\, 2021\, from 02.00 pm IST to 03.00 pm IST to tighten up the skills of our students. \n  \nAbout the speaker: \nMr Rajnikanth C S is a national level trainer registered with the State Skill Mission (SSM) Under the Ministry of Skill Development and Entrepreneurship India. He has delivered multiple talks as a motivational speaker. Over 5000 students and professionals have participated in his training and benefitted from them. \nHis understanding of the Financial Services Industry\, AMCs\, and Distribution Houses is expansive and the students participating in his training stand to benefit a lot from his 17+ years of industry experience in both India and abroad. \nAbout the talk: \nFinancial Markets\, especially the Capital Market\, has the fastest growth rate amongst the various service industries. This has given many job opportunities and a challenging career to young incumbents. As a part of the CSR initiative\, we are trying to enable the students to overcome the learning curve by providing practical knowledge through this Industry workshop. \nIn this workshop\, the candidates will enjoy interactive industry sessions that can help them to acquire the concept of “financial freedom”\, “basics of wealth creation & wealth management”\, intricacies of the stock market\, including the practical side\, and career opportunities based on the current pandemic situation \nSo\, make an opening in your calendar and do not be late\, the talk starts at 02.00 pm IST and lasts till 03.00 pm IST. Be prepared to take notes on December 04\, 2021\, for a professional insight into having a career in finances
URL:https://events.srmap.edu.in/event/the-gateway-to-financial-freedom-with-mr-rajnikanth-c-s/
CATEGORIES:CR&CS,CR&CS Events,Events
END:VEVENT
BEGIN:VEVENT
DTSTART;TZID=Asia/Kolkata:20210731T170000
DTEND;TZID=Asia/Kolkata:20210731T190000
DTSTAMP:20260419T182701
CREATED:20210730T044200Z
LAST-MODIFIED:20250728T045809Z
UID:142403-1627750800-1627758000@events.srmap.edu.in
SUMMARY:On the connection between mental health and peak performance
DESCRIPTION:The Department of Corporate Relations and Career Services at SRM University-AP organises the 22nd episode of the Industry Readiness Webinar Series on July 31\, 2021\, at 5.00 pm. Senior Associate Director of KPMG-one of the Big Four accounting organisations\, Mr Ankit Jhamb will talk on the topic “Mental Health and Peak Performance”\, during the session. \nAbout the Speaker:\nMr Ankit Jhamb has over 15 years of experience in capability development in ITES and consulting organizations. He has coached senior leaders on Emotional Intelligence and Executive Presence and is part of the POSH Investigating Committee. He is the national capability leader for KPMG – Audit and Tax. Recipient of the Youngest HR Leader Award 2019 by World HRD Congress\, he is also the youngest faculty on the Board of International Faculties for KPMG. \nJoin this engaging webinar on July 31\, 2021\, at 5.00 pm to gain professional insights on the topic. \nTo know more about the speaker: Ankit Jhamb
URL:https://events.srmap.edu.in/event/on-the-connection-between-mental-health-and-peak-performance/
CATEGORIES:CR&CS,CR&CS Events,Events,Webinars
END:VEVENT
BEGIN:VEVENT
DTSTART;TZID=Asia/Kolkata:20210612T173000
DTEND;TZID=Asia/Kolkata:20210612T183000
DTSTAMP:20260419T182701
CREATED:20210611T092100Z
LAST-MODIFIED:20250528T074444Z
UID:142401-1623519000-1623522600@events.srmap.edu.in
SUMMARY:Interview handling skills by Mr Sushant Sharma
DESCRIPTION:The Department of Corporate Relations and Career Services (CRCS) at SRM University-AP\, Andhra Pradesh conducts a webinar on “Interview Handling Skills by Industry Expert” on June 12\, 2021\, Saturday at 5:30 pm. Mr. Sushant Sharma\, Senior Talent Partner\, GE Healthcare will give interview training to the students during the session. \nMr Sushant Sharma is a seasoned HR professional with 9 years of experience from organizations like WNS Global Services\, Siemens\, and HCL Technologies. He has first-hand knowledge in managing the hiring process for the Asia-Pacific (APAC) region because of his association with GE Healthcare. Mr. Sushant Sharma holds a B.E. Degree in Electronics Engineering and a PGDM in Leadership Analytics. He has worked in Malaysia\, recruiting from APAC region which includes countries like Australia\, Singapore\, Malaysia\, the Philippines\, and Hongkong. Prior to joining GE Healthcare\, he worked for WNS Global Services as Group HR Manager\, where he was the head of the Bangalore region for the Research and Analytics vertical. His specialties include Lateral and Leadership Hiring\, Stakeholder Management\, Vendor Management\, Strategic Hiring\, and Campus Hiring. He has been granted numerous esteemed honours\, like the best recruiter’s leadership award. Sushant Sharma is also a visiting faculty at prestigious business schools such as IIM Nagpur\, IIT Bombay\, TAPMI\, NMIMS\, Goa Institute of Management\, and many others. He is a coach and guide to many new businesses in Bangalore\, like Upgrad\, edWisor Academy\, to name a few. \nA one-on-one session with Mr Sushant Sharma on skills related to job interviews will help students see interviews from the recruiter’s point of view. All students are invited to join the session which will prepare them to face job interviews with confidence.
URL:https://events.srmap.edu.in/event/interview-handling-skills-by-mr-sushant-sharma/
CATEGORIES:CR&CS,CR&CS Events,Events
END:VEVENT
BEGIN:VEVENT
DTSTART;TZID=Asia/Kolkata:20210227T084500
DTEND;TZID=Asia/Kolkata:20210227T173000
DTSTAMP:20260419T182701
CREATED:20210223T071200Z
LAST-MODIFIED:20250528T075024Z
UID:142399-1614415500-1614447000@events.srmap.edu.in
SUMMARY:National HR Conclave-2021
DESCRIPTION:The grandest conglomerate of Human Resource experts is joining National HR Conclave-2021\, organised by SRM University-AP in association with GWFM. The conclave has been scheduled on February 27\, 2021. Following the theme of the conclave\, “Leading the Disruption- The HR Agenda for 2021“\, the meeting of great minds will provide solutions to recent challenges in Human Resource and Operations. Human Resource professionals across India will attend the conclave. Senior Human Resource Leaders from reputed companies such as KPMG\, Airbus\, IBM\, Informatica\, Standard Chartered Bank\, Flipkart\, Shriram Bio-seeds\, NCC Ltd\, NOKIA\, Infosys BPO\, Volvo Group\, Reliance Jio\, Western Digital\, Visa\, Accenture\, Xperi Corp\, Western Digital\, Kromozones Software Pvt. Ltd\, DST Worldwide will deliver keynote speeches and participate in Panel Discussions throughout the day. The Conclave is being organised in association with Global Workforce Management Forum. \nCompanies are bound to cope with the dynamic shifts in consumer appetite\, societal values and regulatory controls. Climate change and economic slowdown\, anti-capitalism crusaders and hashtag politics also causes disruption on business as usual. To thrive in the constantly shifting world\, Human Resource demands thoughtful approaches in strategy\, leadership and enhanced capabilities to influence all stakeholders. \nThis provides a challenge to Human Resource professionals to bring forth a sustainable approach that can subdue disruptions’ harmful effects. Experts from reputed national and multinational companies will discuss the possibilities to add value to the corporate culture in the various daylong panel discussions and keynote talks. \nGlobal Workforce Management Forum\, founded in June 2014 by Dr Shiva Kumar and Partho Ganguly\, is the world’s first WFM Forum. It is a non-profit professional organisation comprising of a group of Senior WFM & HR professionals committed to promoting the WFM movement on the global platform. The forum also focuses on enhancing the capabilities of the workforce so that they can compete globally\, adding value to society. GWFM is committed to the development of the workforce through education\, training\, research and shared experience. The fastest-growing professional forum is a trendsetter where they discuss current and future happenings in the global business. GWFM has 20\,000+ members representing top multinationals\, public & private organisations\, including top Universities across the world. \nSchedule of the Programme: \n\n8:45 am -Welcome Address by GWFM\n9:00 am- Welcome Note by SRM University-AP\n9:15 am- Keynote Speech: Leadership strategies to rebuild trust and resilience\nSpeaker: Unmesh Pawar\, Partner – People Performance & Culture- KPMG India\n10:00 am- Panel Discussion-1: Digital\, data and disruptions: Leveraging on talent analytics to predict the next HR-led approach for business \nModerator: Aditya Pal Singh\, Director Talent Acquisition Informatica\n12:00 noon- Strategic Keynote Speech: The future of HR – reimagined \nSpeaker: Suraj Chetri\, Director HR Airbus India\n12:45–1:45 pm : Lunch Break\n1:45 pm- PANEL Discussion 2: HR strategies to build flexibility\, adaptability\, and agility \nModerator: Debjani Roy\, Chief HR Officer -Mind Your Fleet (Kromozones Software Pvt. Ltd.)\n3:35 pm- Panel Discussion 3 : Effective engagement: Integrating talent development frameworks within the succession management strategy \nModerator: Grace Samson\, Vice President- HR \, Informatica\n4:45 pm- Closing Keynote Speech: Future-proofing workforce 2020: Upskilling employees for future-oriented career trajectories \nSpeaker: Augstus Azariah\, Human Resource Leader IBM\n5:15 pm- Vote of Thanks\n\nSpeakers: \n\nUnmesh Pawar\, Partner – People Performance & Culture- KPMG India\nAditya Pal Singh\, Director\, Talent Acquisition Informatica\nParam Veer Singh Narang\, VP -Head Early Careers\, Standard Chartered GBS – India\, Malaysia & Poland\nRakesh Jain\, Head TA -Grant Thornton LLP\nAnupam Srivastava\, Director\, Talent Acquisition – EMEA/APAC- Xperi Corporation\nSuraj Chetri\, Director\, HR Airbus India\n\nDebjani Roy\, Chief HR Officer -Mind Your Fleet (Kromozones Software Pvt. Ltd.)\nRaghavendra K\, Senior Vice President and Global Head – HRD\, Infosys BPM\nGaurav Saini\, HR Director-HMD Global( Nokia Phones)India\, Asia Pacific Region & Middle East Africa\nKiranmai Pendyala\, Head of Human Resources\, India -Western Digital\nHarjeet Khanduja VP HR –Reliance JIO\nPawan Shetty\, Vice President – Head of HR\, APAC – Technology at Visa\nGrace Samson\, Vice President- HR\, Informatica\nIVS Ranganath\, Head HR-Shriram Bioseed Genetics (A Division of DCM Shriram Ltd)\nMetzen Cherian\, Director-HR (Culture\, Organizational Development & Talent Management) Volvo Group\nNarayan Rao K\, Head – HR -NCC Limited\nAjay Gaachi\, Principal Director Accenture Strategy – HR Strategy & Transformation\nSudhir Mattoo\, Partner\, Talent & Transformation Consulting Practice at IBM\nAugustus Azariah\, Human Resource Leader IBM\nPrajakta Kanaglekar\, Senior Director\, Flipkart\nDr Shivakumar\, Founder\, GWFM \nPartho Ganguly\, Co-founder\, GWFM\nDeepak Gupta\, Sr. Director & Head – HR at SS&C Technologies\nProf VS Rao\, Vice-Chancellor\, SRM University – AP\nM S Vivekanandan\, AGM – CR & CS\, SRM University – AP
URL:https://events.srmap.edu.in/event/national-hr-conclave-2021/
CATEGORIES:CR&CS,CR&CS Events,CR&CS Webinars,Events
END:VEVENT
END:VCALENDAR