BEGIN:VCALENDAR
VERSION:2.0
PRODID:-//SRMAP Events - ECPv6.15.11//NONSGML v1.0//EN
CALSCALE:GREGORIAN
METHOD:PUBLISH
X-ORIGINAL-URL:https://events.srmap.edu.in
X-WR-CALDESC:Events for SRMAP Events
REFRESH-INTERVAL;VALUE=DURATION:PT1H
X-Robots-Tag:noindex
X-PUBLISHED-TTL:PT1H
BEGIN:VTIMEZONE
TZID:Asia/Kolkata
BEGIN:STANDARD
TZOFFSETFROM:+0530
TZOFFSETTO:+0530
TZNAME:IST
DTSTART:20240101T000000
END:STANDARD
END:VTIMEZONE
BEGIN:VEVENT
DTSTART;TZID=Asia/Kolkata:20251031T140000
DTEND;TZID=Asia/Kolkata:20251031T160000
DTSTAMP:20260425T051117
CREATED:20251024T092739Z
LAST-MODIFIED:20251024T112415Z
UID:144871-1761919200-1761926400@events.srmap.edu.in
SUMMARY:Understanding World Politics with Prof. Siddharth Mallavarapu
DESCRIPTION:The Department of Political Science is organising a Guest lecture by esteemed Prof. Siddharth Mallavarapu from the School of Humanities and Social Sciences\, Shiv Nadar University. Prof. Mallavarapu will deliver the lecture on “Making Sense of the World: Theorizing World Politics”\, focusing on how to understand the global political system. The talk will also delve into the influence of global culture and institutions\, and approaches that analyse world politics as a distinct social system. \nJoin the lecture to gain insights into world polity!
URL:https://events.srmap.edu.in/event/understanding-world-politics-with-prof-siddharth-mallavarapu/
LOCATION:Tiered Classroom\, 5th Floor\, Admin Block
CATEGORIES:Departmental Events,Events,Homepage Events,Political Science
ATTACH;FMTTYPE=image/png:https://events.srmap.edu.in/wp-content/uploads/2025/10/Political-Science-min.png
END:VEVENT
END:VCALENDAR