BEGIN:VCALENDAR
VERSION:2.0
PRODID:-//SRMAP Events - ECPv6.15.11//NONSGML v1.0//EN
CALSCALE:GREGORIAN
METHOD:PUBLISH
X-ORIGINAL-URL:https://events.srmap.edu.in
X-WR-CALDESC:Events for SRMAP Events
REFRESH-INTERVAL;VALUE=DURATION:PT1H
X-Robots-Tag:noindex
X-PUBLISHED-TTL:PT1H
BEGIN:VTIMEZONE
TZID:Asia/Kolkata
BEGIN:STANDARD
TZOFFSETFROM:+0530
TZOFFSETTO:+0530
TZNAME:IST
DTSTART:20250101T000000
END:STANDARD
END:VTIMEZONE
BEGIN:VEVENT
DTSTART;TZID=Asia/Kolkata:20260325T103000
DTEND;TZID=Asia/Kolkata:20260325T113000
DTSTAMP:20260424T211729
CREATED:20260317T102000Z
LAST-MODIFIED:20260317T102000Z
UID:145553-1774434600-1774438200@events.srmap.edu.in
SUMMARY:Guest Lecture - Examining the Parliamentary Opposition in India
DESCRIPTION:The Department of Political Science is organising a Guest Talk on “Fragmentation and Crisis of Opposition: (Un)Making of Parliamentary Opposition in India”. Dr Rupak Kumar\, Assistant Professor\, Department of Social Science\, VIT\, Vellore will deliver the session. \nDr Rupak Kumar reimagines the idea of democracy\, political system\, governance from the perspective of the opposition. His talk will document a detailed historical and analytical account of the making of parliamentary opposition in Independent India. \nThis lecture will be useful to those interested in understanding Indian politics\, democracy\, political processes and institutions.
URL:https://events.srmap.edu.in/event/guest-lecture-examining-the-parliamentary-opposition-in-india/
LOCATION:ALC 1\, Homi J Bhabha Block
CATEGORIES:Departmental Events,Events,Homepage Events,Political Science
ATTACH;FMTTYPE=image/png:https://events.srmap.edu.in/wp-content/uploads/2026/03/Home-page-image-4-1.png
END:VEVENT
END:VCALENDAR