BEGIN:VCALENDAR
VERSION:2.0
PRODID:-//SRMAP Events - ECPv6.15.11//NONSGML v1.0//EN
CALSCALE:GREGORIAN
METHOD:PUBLISH
X-ORIGINAL-URL:https://events.srmap.edu.in
X-WR-CALDESC:Events for SRMAP Events
REFRESH-INTERVAL;VALUE=DURATION:PT1H
X-Robots-Tag:noindex
X-PUBLISHED-TTL:PT1H
BEGIN:VTIMEZONE
TZID:Asia/Kolkata
BEGIN:STANDARD
TZOFFSETFROM:+0530
TZOFFSETTO:+0530
TZNAME:IST
DTSTART:20240101T000000
END:STANDARD
END:VTIMEZONE
BEGIN:VEVENT
DTSTART;TZID=Asia/Kolkata:20250212T110000
DTEND;TZID=Asia/Kolkata:20250212T123000
DTSTAMP:20260422T072238
CREATED:20250206T042400Z
LAST-MODIFIED:20250806T114124Z
UID:142177-1739358000-1739363400@events.srmap.edu.in
SUMMARY:AIIMS Professor on Clinical Psychology and its Scope in India
DESCRIPTION:The Department of Psychology at SRM University-AP is organising an invited guest talk by Dr  Barre Vijaya Prasad\, an distinguished figure in the field of Psychology. Dr Prasad will speak on “Clinical Psychology and its scope in India”. The session will be held virtually on February 12\, 2025 is aimed at psychology students and subject enthusiasts. Join the zoom session to get insights on the topic. \nAbout the Speaker: \nDr Vijaya Prasad is a seasoned psychologist and Assistant Professor of Clinical Psychology Department of Psychiatry at AIIMS\, New Delhi with a doctorate from the Centre for Health Psychology\, University of Hyderabad.His specialisations include Clinical Psychology\, Rehabilitation Psychology & Psychooncology. Dr Prasad is a recipient of numerous awards and fellowships including the Indian Association of Clinical Psychologist\, the American Society of Clinical Oncology\, the European Society for Medical Oncology\, to name a few. He has to his credit several projects from governmental agencies such as Indian Council of Medical Research (ICMR) Department of Biotechnology and the like. With extensive research experience\, Dr Barre Vijaya Proasad focuses on effective psychotherapies and empowerment of differently-abled individuals\, contributing significantly to the field through publications and guidance in various projects.
URL:https://events.srmap.edu.in/event/aiims-professor-on-clinical-psychology-and-its-scope-in-india/
LOCATION:Zoom
CATEGORIES:Departmental Events,Events,Psychology
END:VEVENT
END:VCALENDAR