BEGIN:VCALENDAR
VERSION:2.0
PRODID:-//SRMAP Events - ECPv6.15.11//NONSGML v1.0//EN
CALSCALE:GREGORIAN
METHOD:PUBLISH
X-ORIGINAL-URL:https://events.srmap.edu.in
X-WR-CALDESC:Events for SRMAP Events
REFRESH-INTERVAL;VALUE=DURATION:PT1H
X-Robots-Tag:noindex
X-PUBLISHED-TTL:PT1H
BEGIN:VTIMEZONE
TZID:Asia/Kolkata
BEGIN:STANDARD
TZOFFSETFROM:+0530
TZOFFSETTO:+0530
TZNAME:IST
DTSTART:20250101T000000
END:STANDARD
END:VTIMEZONE
BEGIN:VEVENT
DTSTART;TZID=Asia/Kolkata:20260206T100000
DTEND;TZID=Asia/Kolkata:20260206T130000
DTSTAMP:20260420T185528
CREATED:20260127T071950Z
LAST-MODIFIED:20260128T073524Z
UID:145229-1770372000-1770382800@events.srmap.edu.in
SUMMARY:HPCC Workshop
DESCRIPTION:The Office of Dean-Research is organising a one-day HPCC workshop to ignite innovations in computing. The workshop will delve into HPCC systems\, how to connect HPCC to PuTTY\, Linux commands\, transferring files to HPCC using Win SCP and PBS script for job submission. \nDate: February 06\, 2026 \nTime: 10:00 AM – 01:00 PM \nJoin the workshop and explore novel frontiers in Computing!
URL:https://events.srmap.edu.in/event/hpcc-workshop/
LOCATION:SRM University-AP
CATEGORIES:Events,Homepage Events,Research Events,Research Workshop
ATTACH;FMTTYPE=image/jpeg:https://events.srmap.edu.in/wp-content/uploads/2026/01/HPCC-Workshop.jpg
END:VEVENT
END:VCALENDAR