BEGIN:VCALENDAR
VERSION:2.0
PRODID:-//SRMAP Events - ECPv6.15.11//NONSGML v1.0//EN
CALSCALE:GREGORIAN
METHOD:PUBLISH
X-ORIGINAL-URL:https://events.srmap.edu.in
X-WR-CALDESC:Events for SRMAP Events
REFRESH-INTERVAL;VALUE=DURATION:PT1H
X-Robots-Tag:noindex
X-PUBLISHED-TTL:PT1H
BEGIN:VTIMEZONE
TZID:Asia/Kolkata
BEGIN:STANDARD
TZOFFSETFROM:+0530
TZOFFSETTO:+0530
TZNAME:IST
DTSTART:20210101T000000
END:STANDARD
END:VTIMEZONE
BEGIN:VEVENT
DTSTART;TZID=Asia/Kolkata:20221014T170000
DTEND;TZID=Asia/Kolkata:20221014T174500
DTSTAMP:20260422T090248
CREATED:20221014T005100Z
LAST-MODIFIED:20250806T123510Z
UID:142864-1665766800-1665769500@events.srmap.edu.in
SUMMARY:Debunking mental health stigma
DESCRIPTION:Myths around mental health and illness have been doing rounds for ages. The era of social media has made the matter worse by fabricating and promoting fake content. People are often at a loss in figuring out the reality of the affair. They get bombarded with a thousand solutions to resolve their problem. But most often\, no such solution helps them come out of the chaos. \nThe Department of Student Affairs brings to you an illuminating talk on the topic “Debunking Mental Health Stigma” to guide you in sorting out the true trouble and taking the right action. Student Counsellor Ms Liza Hazarika will be the keynote speaker for the event. \nDate: October 14\, 2022 \nTime: 05.00pm to 05.45pm \nVenue: ALC 4- Admin Block \nJoin the session to save yourself from such stigma associated with mental illness.
URL:https://events.srmap.edu.in/event/debunking-mental-health-stigma/
CATEGORIES:Events,Students Affairs Events
END:VEVENT
BEGIN:VEVENT
DTSTART;VALUE=DATE:20221031
DTEND;VALUE=DATE:20221102
DTSTAMP:20260422T090248
CREATED:20240128T014000Z
LAST-MODIFIED:20250703T110735Z
UID:142896-1667174400-1667347199@events.srmap.edu.in
SUMMARY:National Unity Day Exhibition Inspires Intellectual Engagement Among Students
DESCRIPTION:The Arts\, Culture and Literary Society (ACTS) organised an exhibition in collaboration with the Directorate of Student Affairs to celebrate National Unity Day. The event commemorates Sardar Vallabhbhai Patel’s birth anniversary and aims to promote unity and raise awareness about his life and contributions. The celebration was held on October 31\, 2022\, as part of this initiative. \nThe exhibition showcased the life history of the visionary statesman that helped educate and inspire students and faculty. The Arts\, Culture and Literary Society (ACTS) and Quiz Club provided an intellectual engagement encouraging participants to reflect on the role of national and international organisations in representing unified interests. The event hoped to instil a sense of unity\, knowledge\, and appreciation for the freedom fighter’s values. \nThe exhibition inspired a diverse gathering\, creating a deeper appreciation for his contributions to national unity. The event recognised and rewarded outstanding performances\, encouraging a sense of accomplishment among participants. Overall\, the celebration contributed to the intellectual and cultural enrichment of the students.
URL:https://events.srmap.edu.in/event/national-unity-day-exhibition-inspires-intellectual-engagement-among-students/
CATEGORIES:Events,Students Affairs Events
END:VEVENT
END:VCALENDAR