BEGIN:VCALENDAR
VERSION:2.0
PRODID:-//SRMAP Events - ECPv6.15.11//NONSGML v1.0//EN
CALSCALE:GREGORIAN
METHOD:PUBLISH
X-WR-CALNAME:SRMAP Events
X-ORIGINAL-URL:https://events.srmap.edu.in
X-WR-CALDESC:Events for SRMAP Events
REFRESH-INTERVAL;VALUE=DURATION:PT1H
X-Robots-Tag:noindex
X-PUBLISHED-TTL:PT1H
BEGIN:VTIMEZONE
TZID:Asia/Kolkata
BEGIN:STANDARD
TZOFFSETFROM:+0530
TZOFFSETTO:+0530
TZNAME:IST
DTSTART:20210101T000000
END:STANDARD
END:VTIMEZONE
BEGIN:VEVENT
DTSTART;VALUE=DATE:20221031
DTEND;VALUE=DATE:20221102
DTSTAMP:20260422T072000
CREATED:20240128T014000Z
LAST-MODIFIED:20250703T110735Z
UID:142896-1667174400-1667347199@events.srmap.edu.in
SUMMARY:National Unity Day Exhibition Inspires Intellectual Engagement Among Students
DESCRIPTION:The Arts\, Culture and Literary Society (ACTS) organised an exhibition in collaboration with the Directorate of Student Affairs to celebrate National Unity Day. The event commemorates Sardar Vallabhbhai Patel’s birth anniversary and aims to promote unity and raise awareness about his life and contributions. The celebration was held on October 31\, 2022\, as part of this initiative. \nThe exhibition showcased the life history of the visionary statesman that helped educate and inspire students and faculty. The Arts\, Culture and Literary Society (ACTS) and Quiz Club provided an intellectual engagement encouraging participants to reflect on the role of national and international organisations in representing unified interests. The event hoped to instil a sense of unity\, knowledge\, and appreciation for the freedom fighter’s values. \nThe exhibition inspired a diverse gathering\, creating a deeper appreciation for his contributions to national unity. The event recognised and rewarded outstanding performances\, encouraging a sense of accomplishment among participants. Overall\, the celebration contributed to the intellectual and cultural enrichment of the students.
URL:https://events.srmap.edu.in/event/national-unity-day-exhibition-inspires-intellectual-engagement-among-students/
CATEGORIES:Events,Students Affairs Events
END:VEVENT
BEGIN:VEVENT
DTSTART;VALUE=DATE:20221114
DTEND;VALUE=DATE:20221116
DTSTAMP:20260422T072000
CREATED:20240127T035500Z
LAST-MODIFIED:20250703T111440Z
UID:142882-1668384000-1668556799@events.srmap.edu.in
SUMMARY:Sunshine 2022: A Day Spent in the Service of Others
DESCRIPTION:On the occasion of Children’s Day\, SRM University-AP organises “Sunshine- 2022”\, an event to celebrate Pandit Jawaharlal Nehru’s birth anniversary. The varsity organised the celebrations at Vijaya Mary Integrated School for the Blind – Gunadala\, Vijayawada. \nPandit Nehru held children in high regard. He believed “Children are like buds in a garden and should be carefully and lovingly nurtured\, as they are the future of the nation and the citizens of tomorrow”. The event was organised with the aim of raising awareness about the rights\, education\, and welfare of the children at the blind school. Various competitions and fun activities were organised to engage the students. The varsity students also took part in entertaining the students with games and other performances. Students of the varsity also interacted with the faculty of the blind school in order to understand the students’ conditions better. Winners of the competitions were rewarded with water bottles. \nThe celebrations culminated with the varsity distributing food\, chocolates and juice to the children. The children felt delighted and spent a joyful time with the SRM AP family.
URL:https://events.srmap.edu.in/event/sunshine-2022-a-day-spent-in-the-service-of-others/
CATEGORIES:Events,Students Affairs Events
END:VEVENT
BEGIN:VEVENT
DTSTART;TZID=Asia/Kolkata:20221122T140000
DTEND;TZID=Asia/Kolkata:20221122T150000
DTSTAMP:20260422T072000
CREATED:20240127T222800Z
LAST-MODIFIED:20250703T111056Z
UID:142892-1669125600-1669129200@events.srmap.edu.in
SUMMARY:Mr Ram Prasad Delivers Lecture on Voter Responsibility
DESCRIPTION:Voting is a fundamental right for every citizen of our country.  Being future leaders and aspirers\, it is important for all the students to have a keen interest in taking part in the important events of elections and educating students on voting rules\, in relation to this\, The Directorate of Student Affairs organised an awareness session on Novemeber 22\, 2022 with Mr Ram Prasad\, Tehsildar – Mangalagiri Mandal. \nMr Ram Prasad in his one-hour session\, spoke elaborately on the need for the young voters. He emphasised that every citizen who has turned 18 should utilise his/her fundamental right to vote. He also informed the students of the Revision of Photos in the Electoral Rolls. The Tehsildar of Mangalagiri encouraged the voters to participate in the electoral process and make informed decisions in the matters of nation building. \nThe Tehsildaar stressed upon the need for each student to take up the responsibility of the state or city he/she lives in and stated that in a democratic nation such as India\, the responsibility of nation building falls on each one of us\, whether it be a district or state or country. The enlightening session left the students charged and with a purpose to serve the nation for a better and beautiful tomorrow.
URL:https://events.srmap.edu.in/event/mr-ram-prasad-delivers-lecture-on-voter-responsibility/
CATEGORIES:Events,Students Affairs Events
END:VEVENT
END:VCALENDAR