BEGIN:VCALENDAR
VERSION:2.0
PRODID:-//SRMAP Events - ECPv6.15.11//NONSGML v1.0//EN
CALSCALE:GREGORIAN
METHOD:PUBLISH
X-WR-CALNAME:SRMAP Events
X-ORIGINAL-URL:https://events.srmap.edu.in
X-WR-CALDESC:Events for SRMAP Events
REFRESH-INTERVAL;VALUE=DURATION:PT1H
X-Robots-Tag:noindex
X-PUBLISHED-TTL:PT1H
BEGIN:VTIMEZONE
TZID:Asia/Kolkata
BEGIN:STANDARD
TZOFFSETFROM:+0530
TZOFFSETTO:+0530
TZNAME:IST
DTSTART:20220101T000000
END:STANDARD
END:VTIMEZONE
BEGIN:VEVENT
DTSTART;TZID=Asia/Kolkata:20230208T150000
DTEND;TZID=Asia/Kolkata:20230208T170000
DTSTAMP:20260422T025853
CREATED:20240130T024500Z
LAST-MODIFIED:20240130T024500Z
UID:142900-1675868400-1675875600@events.srmap.edu.in
SUMMARY:Creative Writing Competition: Weaving Tales through Imagination
DESCRIPTION:Creative writing is an art that transcends individuals to places and scenarios. It thrives on the creative faculties of an individual. Recognising the profound impact of creative expression\,  the Arts\, Culture and Literary Society (ACTS) organised a captivating Creative Writing Competition on February 08\, 2023. \nThe objective of the Creative Writing Competition was to provide a platform for students across departments to showcase their writing prowess and imaginative flair. More than just a contest\, the event sought to foster a culture of artistic expression and offer a platform for students to unleash their boundless potential. \nThe response to the competition surpassed all expectations\, as students from diverse departments eagerly embraced the opportunity to showcase their literary talents. Among the multitude of entries\, Andrew Lwanga and K Sairam Koushal stood out for their exceptional creativity and originality. Their works resonated with the essence of storytelling\, weaving intricate narratives that were both familiar and fantastical at the same time. \nThe success of the Creative Writing Competition speaks volumes about the university’s unwavering commitment to nurturing and celebrating the artistic endeavours of its students. As the curtains drew on another chapter of literary excellence\, the echoes of inspiration continued to reverberate throughout the campus.
URL:https://events.srmap.edu.in/event/creative-writing-competition-weaving-tales-through-imagination/
CATEGORIES:Events,Students Affairs Events
END:VEVENT
BEGIN:VEVENT
DTSTART;TZID=Asia/Kolkata:20230210T180000
DTEND;TZID=Asia/Kolkata:20230210T200000
DTSTAMP:20260422T025853
CREATED:20240130T035300Z
LAST-MODIFIED:20240130T035300Z
UID:142910-1676052000-1676059200@events.srmap.edu.in
SUMMARY:Harmonious Delights: Musical Night Strikes a Chord at SRM University-AP
DESCRIPTION:On a night filled with melody and rhythm\, the Music Club of SRM University-AP orchestrated a mesmerising Musical Night that left the audience spellbound. Drawing a large crowd comprising students\, faculty\, and music enthusiasts\, this event proved to be a resounding success\, showcasing the incredible talents of our university’s musical community. \nThe performers took center stage\, representing a diverse range of genres\, including classical\, jazz\, pop\, rhythm\, and blues. With each note and every soulful rendition\, they captivated the audience\, leaving them wanting more. The stage became a canvas for creativity as students poured their hearts into their performances. \nAdding an interactive element to the night\, the Open Mic session provided a platform for students to share their own melodious performances. This segment not only showcased the hidden talents within our student body but also fostered a sense of camaraderie and collaboration as students supported and celebrated each other’s musical abilities. \nBeyond the stunning performances\, the Musical Night served as a catalyst for promoting cultural diversity and artistic expression within the university community. It celebrated the multitude of musical genres that exist\, showcasing how music transcends boundaries and unites people from different backgrounds. The success of the Musical Night sets the stage for even greater musical experiences\, where students can continue to showcase their talents\, celebrate diversity\, and create lasting memories.
URL:https://events.srmap.edu.in/event/harmonious-delights-musical-night-strikes-a-chord-at-srm-university-ap/
CATEGORIES:Events,Students Affairs Events
END:VEVENT
BEGIN:VEVENT
DTSTART;TZID=Asia/Kolkata:20230215T143000
DTEND;TZID=Asia/Kolkata:20230215T163000
DTSTAMP:20260422T025853
CREATED:20240130T025100Z
LAST-MODIFIED:20240130T025100Z
UID:142902-1676471400-1676478600@events.srmap.edu.in
SUMMARY:SRM AP Transforms into a Palette of Multifaceted Expertise
DESCRIPTION:SRM University-AP hosts myriads of events offering a multitude of avenues for the students to express\, ideate\, learn and grow. The Colour Painting Contest\, hosted by the Creative Arts Club on February 15\, 2023\, is one such initiative that transformed the campus into a vibrant canvas. The event aimed to channel students’ artistic talents through visual expression while fostering a spirit of friendly competition among the houses. \nStudents\, representing their houses with Ursa (Green)\, Pegasus (Blue)\, Phoenix (Yellow)\, and Orion (Red)\, unleashed their imaginations onto the canvas\, creating mesmerising artworks. The contest aimed at conveying powerful messages through brushstrokes\, colour and form. \nShivangi Narayan\, representing Pegasus\, won the first place with her captivating artwork\, earning 10 points for her house. Swapna B\, from Phoenix\, secured the second position\, adding 5 points to her house’s tally. Their creations dazzled the eyes and ignited a sense of wonder and admiration among everyone. The competition celebrated the boundless creativity that thrives within our campus walls.
URL:https://events.srmap.edu.in/event/srm-ap-transforms-into-a-palette-of-multifaceted-expertise/
CATEGORIES:Events,Students Affairs Events
END:VEVENT
BEGIN:VEVENT
DTSTART;TZID=Asia/Kolkata:20230222T160000
DTEND;TZID=Asia/Kolkata:20230222T170000
DTSTAMP:20260422T025853
CREATED:20240127T044700Z
LAST-MODIFIED:20240127T044700Z
UID:142890-1677081600-1677085200@events.srmap.edu.in
SUMMARY:Seminar on Mastering the Art of Public Speaking
DESCRIPTION:Public speaking is a skill that holds immense value in personal and professional development. Recognising its significance\, ACTS Club recently organised a highly informative and engaging seminar aimed at enhancing students’ public speaking skills and boosting their confidence in articulating thoughts and ideas before an audience.\nLed by Dr Soni Wadhwa\, Assistant Professor of English the Public Speaking Seminar proved to be a transformative event for students from various departments. Participants gathered with a shared goal of acquiring valuable skills and techniques to excel in the art of public speaking. Dr Wadhwa’s insights were nothing short of inspiring. From the importance of thorough preparation to the subtle nuances of body language\, attendees were equipped with practical tools and techniques to deliver impactful speeches.\n The seminar addressed the common challenges faced by students\, offering solutions and strategies for overcoming stage fright and nervousness. The session was not only informative but also interactive\, encouraging students to actively participate in engaging activities and exercises; attendees had the opportunity to enhance their communication abilities in a supportive and encouraging environment.\nThe importance of effective communication cannot be overstated\, and SRM University-AP’s initiative to organise such seminars reflects its commitment to the holistic development of its students. By providing platforms for students to enhance their public speaking skills\, the university is preparing them for success in all facets of life.
URL:https://events.srmap.edu.in/event/seminar-on-mastering-the-art-of-public-speaking/
CATEGORIES:Events,Students Affairs Events
END:VEVENT
END:VCALENDAR