BEGIN:VCALENDAR
VERSION:2.0
PRODID:-//SRMAP Events - ECPv6.15.11//NONSGML v1.0//EN
CALSCALE:GREGORIAN
METHOD:PUBLISH
X-ORIGINAL-URL:https://events.srmap.edu.in
X-WR-CALDESC:Events for SRMAP Events
REFRESH-INTERVAL;VALUE=DURATION:PT1H
X-Robots-Tag:noindex
X-PUBLISHED-TTL:PT1H
BEGIN:VTIMEZONE
TZID:Asia/Kolkata
BEGIN:STANDARD
TZOFFSETFROM:+0530
TZOFFSETTO:+0530
TZNAME:IST
DTSTART:20220101T000000
END:STANDARD
END:VTIMEZONE
BEGIN:VEVENT
DTSTART;TZID=Asia/Kolkata:20230603T150000
DTEND;TZID=Asia/Kolkata:20230603T210000
DTSTAMP:20260421T204710
CREATED:20240130T025900Z
LAST-MODIFIED:20250703T110605Z
UID:142903-1685804400-1685826000@events.srmap.edu.in
SUMMARY:Bidding Farewell to the Batch of 2019
DESCRIPTION:June 03\, 2023\, witnessed an emotionally tumultuous occasion for the SRM University-AP’s outgoing batch of Students. The Directorate of Student Affairs organised an overwhelming Farewell Party to the varsity’s beloved Batch of 2019 The Party was a testament to the bonds forged\, memories cherished\, and journeys shared throughout their journey in the varsity. \nThe Farewell Celebration included games and performances that filled the air with laughter\, joy and camaraderie. Yet\, beneath the surface\, there lingered an undercurrent of bittersweet melancholy and a  realisation that this gathering marked the end of a cherished chapter in their lives. \nStudents and faculty alike took to the stage to voice their voices parting messages. Shared memories\, triumphs and challenges were recounted. Each tale served as a  reminder of the indelible mark left by the graduating class\, their resilience\, creativity\, and unwavering spirit to succeed in life.
URL:https://events.srmap.edu.in/event/bidding-farewell-to-the-batch-of-2019/
CATEGORIES:Events,Students Affairs Events
END:VEVENT
END:VCALENDAR