BEGIN:VCALENDAR
VERSION:2.0
PRODID:-//SRMAP Events - ECPv6.15.11//NONSGML v1.0//EN
CALSCALE:GREGORIAN
METHOD:PUBLISH
X-WR-CALNAME:SRMAP Events
X-ORIGINAL-URL:https://events.srmap.edu.in
X-WR-CALDESC:Events for SRMAP Events
REFRESH-INTERVAL;VALUE=DURATION:PT1H
X-Robots-Tag:noindex
X-PUBLISHED-TTL:PT1H
BEGIN:VTIMEZONE
TZID:Asia/Kolkata
BEGIN:STANDARD
TZOFFSETFROM:+0530
TZOFFSETTO:+0530
TZNAME:IST
DTSTART:20240101T000000
END:STANDARD
END:VTIMEZONE
BEGIN:VEVENT
DTSTART;TZID=Asia/Kolkata:20250227T080000
DTEND;TZID=Asia/Kolkata:20250227T170000
DTSTAMP:20260420T124718
CREATED:20250221T011700Z
LAST-MODIFIED:20250221T011700Z
UID:142923-1740643200-1740675600@events.srmap.edu.in
SUMMARY:UDGAM 2025!
DESCRIPTION:UDGAM-2025\nFebruary 27 – March 01\, 2025 \nMedia Coverage for the Event
URL:https://events.srmap.edu.in/event/udgam-2025/
CATEGORIES:Students Affairs Events
END:VEVENT
END:VCALENDAR