BEGIN:VCALENDAR
VERSION:2.0
PRODID:-//SRMAP Events - ECPv6.15.11//NONSGML v1.0//EN
CALSCALE:GREGORIAN
METHOD:PUBLISH
X-WR-CALNAME:SRMAP Events
X-ORIGINAL-URL:https://events.srmap.edu.in
X-WR-CALDESC:Events for SRMAP Events
REFRESH-INTERVAL;VALUE=DURATION:PT1H
X-Robots-Tag:noindex
X-PUBLISHED-TTL:PT1H
BEGIN:VTIMEZONE
TZID:Asia/Kolkata
BEGIN:STANDARD
TZOFFSETFROM:+0530
TZOFFSETTO:+0530
TZNAME:IST
DTSTART:20250101T000000
END:STANDARD
END:VTIMEZONE
BEGIN:VEVENT
DTSTART;TZID=Asia/Kolkata:20260214T090000
DTEND;TZID=Asia/Kolkata:20260214T210000
DTSTAMP:20260419T182703
CREATED:20260209T094513Z
LAST-MODIFIED:20260209T094548Z
UID:145334-1771059600-1771102800@events.srmap.edu.in
SUMMARY:Code for Connection
DESCRIPTION:
URL:https://events.srmap.edu.in/event/code-for-connection/
CATEGORIES:Homepage Events,Students Affairs Events,University Event
ATTACH;FMTTYPE=image/jpeg:https://events.srmap.edu.in/wp-content/uploads/2026/02/code-for-connection.jpg
END:VEVENT
BEGIN:VEVENT
DTSTART;TZID=Asia/Kolkata:20260218T160000
DTEND;TZID=Asia/Kolkata:20260218T170000
DTSTAMP:20260419T182703
CREATED:20260217T061913Z
LAST-MODIFIED:20260217T061913Z
UID:145384-1771430400-1771434000@events.srmap.edu.in
SUMMARY:Campus to Corporate: An Insightful Talk on What Recruiters Look For
DESCRIPTION:The Coding Club of SRM University-AP is organising an expert talk on “Campus to Corporate: What Recruiters Really Want”. Mr Mamlesh VA\, AI Engineer and Backend Developer\, iNextLabs will deliver an insightful session on February 18\, 2026. \nIn his Talk\, Mr Mamlesh will highlight what recruiters really look for beyond the students CV – Attitude\, mindset\, and a genuine passion for the field. Emphasising on values such as reliability\, adaptability\, communication skills\, and emotional intelligence\, join the talk to understand\, beyond the resume\, what recruiters truly want to see in their prospective employees.
URL:https://events.srmap.edu.in/event/campus-to-corporate-an-insightful-talk-on-what-recruiters-look-for/
LOCATION:APJ Abdul Kalam Auditorium
CATEGORIES:Events,Homepage Events,Students Affairs Events
ATTACH;FMTTYPE=image/png:https://events.srmap.edu.in/wp-content/uploads/2026/02/Campus-to-Corporate-What-Recruiters-really-want-1.png
END:VEVENT
BEGIN:VEVENT
DTSTART;VALUE=DATE:20260225
DTEND;VALUE=DATE:20260301
DTSTAMP:20260419T182703
CREATED:20260209T101319Z
LAST-MODIFIED:20260209T101349Z
UID:145332-1771977600-1772323199@events.srmap.edu.in
SUMMARY:Infinitus 2026 Returns: Four Days of Music\, Creativity\, and Campus Energy
DESCRIPTION:Step into the vibrant cultural pulse of SRM University-AP\, Amaravati\, as Infinitus 2026 returns from February 25–28\, 2026 with an electrifying blend of creativity\, talent\, and celebration. This four-day national-level techno-cultural fest brings together students\, artists\, and innovators from across the country for an unforgettable campus experience. \nWhether you’re a performer\, creator\, or cultural enthusiast\, this is your stage to express\, connect\, and celebrate individuality in a dynamic offline environment where passion takes center stage. \nInfinitus 2026 promises a lively atmosphere filled with performances\, interactions\, and artistic exploration. Participants will have the chance to engage with peers\, share their creativity\, and be part of a campus-wide celebration of culture and expression. \nPro-Shows & Highlights\nWhen the lights go down\, the stage comes alive. \n\nKarthik LIVE – February 27\, 2026\nPower-packed performances\, music\, and pro-shows throughout the fest\nHigh-energy DJ experiences\, including DJ Gowtham\, set to ignite the crowd\n\nEvents & Productions: Dream Bright Events\nArtist & Talent Partners: Headliners \nFrom cultural showcases to electrifying performances\, Infinitus 2026 is more than a fest—it’s a celebration of talent\, community\, and unforgettable moments at SRM University-AP. \nMark your calendar. Register soon. Be part of the experience.
URL:https://events.srmap.edu.in/event/infinitus-2026-returns-four-days-of-music-creativity-and-campus-energy/
CATEGORIES:Departmental Events,Events,Homepage Events,Students Affairs Events
ATTACH;FMTTYPE=image/jpeg:https://events.srmap.edu.in/wp-content/uploads/2026/02/WhatsApp-Image-2026-02-09-at-3.40.50-PM.jpeg
END:VEVENT
END:VCALENDAR