BEGIN:VCALENDAR
VERSION:2.0
PRODID:-//SRMAP Events - ECPv6.15.11//NONSGML v1.0//EN
CALSCALE:GREGORIAN
METHOD:PUBLISH
X-ORIGINAL-URL:https://events.srmap.edu.in
X-WR-CALDESC:Events for SRMAP Events
REFRESH-INTERVAL;VALUE=DURATION:PT1H
X-Robots-Tag:noindex
X-PUBLISHED-TTL:PT1H
BEGIN:VTIMEZONE
TZID:Asia/Kolkata
BEGIN:STANDARD
TZOFFSETFROM:+0530
TZOFFSETTO:+0530
TZNAME:IST
DTSTART:20210101T000000
END:STANDARD
END:VTIMEZONE
BEGIN:VEVENT
DTSTART;TZID=Asia/Kolkata:20221211T110000
DTEND;TZID=Asia/Kolkata:20221211T120000
DTSTAMP:20260422T072426
CREATED:20240127T001800Z
LAST-MODIFIED:20250703T111926Z
UID:142873-1670756400-1670760000@events.srmap.edu.in
SUMMARY:Bharatiya Bhasha Divas: Embracing India's Linguistic Tapestry
DESCRIPTION:The Directorate of Student Affairs organised ‘Bharatiya Bhasha Divas’ on the occasion of the birth anniversary of Chinnaswami Subramania Bharati\, a renowned Tamil writer\, poet\, journalist\, Indian independence activist\, social reformer\, and polyglot. The event aimed to celebrate and promote the linguistic diversity of India\, and it was a mesmerising spectacle that left a lasting impact on all who attended. \nBharatiya Bhasha Divas\, transcended mere observance. The event symbolised a collaborative effort to celebrate and promote the diversity of languages. The event was thoughtfully curated with the intention of introducing students to the beauty and importance of Indian languages. \nThe sound of different languages echoed throughout the Grand Stairs of the Vikram Sarabhai Block\, serving as a testament to the linguistic opulence that graces the Indian subcontinent. The event assumed the mantle of a catalyst\, igniting a collective consciousness and prompting initiatives aimed at fortifying language education and fostering multilingual communication. \nThe impact of the celebration resonated far beyond the confines of the event itself. It served as a clarion call\, kindling a zeal among students to embark on a journey of linguistic exploration and cultural immersion.
URL:https://events.srmap.edu.in/event/bharatiya-bhasha-divas-embracing-indias-linguistic-tapestry/
CATEGORIES:Events,Students Affairs Events
END:VEVENT
END:VCALENDAR