BEGIN:VCALENDAR
VERSION:2.0
PRODID:-//SRMAP Events - ECPv6.15.11//NONSGML v1.0//EN
CALSCALE:GREGORIAN
METHOD:PUBLISH
X-ORIGINAL-URL:https://events.srmap.edu.in
X-WR-CALDESC:Events for SRMAP Events
REFRESH-INTERVAL;VALUE=DURATION:PT1H
X-Robots-Tag:noindex
X-PUBLISHED-TTL:PT1H
BEGIN:VTIMEZONE
TZID:Asia/Kolkata
BEGIN:STANDARD
TZOFFSETFROM:+0530
TZOFFSETTO:+0530
TZNAME:IST
DTSTART:20220101T000000
END:STANDARD
END:VTIMEZONE
BEGIN:VEVENT
DTSTART;TZID=Asia/Kolkata:20230222T160000
DTEND;TZID=Asia/Kolkata:20230222T170000
DTSTAMP:20260422T042248
CREATED:20240127T044700Z
LAST-MODIFIED:20240127T044700Z
UID:142890-1677081600-1677085200@events.srmap.edu.in
SUMMARY:Seminar on Mastering the Art of Public Speaking
DESCRIPTION:Public speaking is a skill that holds immense value in personal and professional development. Recognising its significance\, ACTS Club recently organised a highly informative and engaging seminar aimed at enhancing students’ public speaking skills and boosting their confidence in articulating thoughts and ideas before an audience.\nLed by Dr Soni Wadhwa\, Assistant Professor of English the Public Speaking Seminar proved to be a transformative event for students from various departments. Participants gathered with a shared goal of acquiring valuable skills and techniques to excel in the art of public speaking. Dr Wadhwa’s insights were nothing short of inspiring. From the importance of thorough preparation to the subtle nuances of body language\, attendees were equipped with practical tools and techniques to deliver impactful speeches.\n The seminar addressed the common challenges faced by students\, offering solutions and strategies for overcoming stage fright and nervousness. The session was not only informative but also interactive\, encouraging students to actively participate in engaging activities and exercises; attendees had the opportunity to enhance their communication abilities in a supportive and encouraging environment.\nThe importance of effective communication cannot be overstated\, and SRM University-AP’s initiative to organise such seminars reflects its commitment to the holistic development of its students. By providing platforms for students to enhance their public speaking skills\, the university is preparing them for success in all facets of life.
URL:https://events.srmap.edu.in/event/seminar-on-mastering-the-art-of-public-speaking/
CATEGORIES:Events,Students Affairs Events
END:VEVENT
END:VCALENDAR