BEGIN:VCALENDAR
VERSION:2.0
PRODID:-//SRMAP Events - ECPv6.15.11//NONSGML v1.0//EN
CALSCALE:GREGORIAN
METHOD:PUBLISH
X-WR-CALNAME:SRMAP Events
X-ORIGINAL-URL:https://events.srmap.edu.in
X-WR-CALDESC:Events for SRMAP Events
REFRESH-INTERVAL;VALUE=DURATION:PT1H
X-Robots-Tag:noindex
X-PUBLISHED-TTL:PT1H
BEGIN:VTIMEZONE
TZID:Asia/Kolkata
BEGIN:STANDARD
TZOFFSETFROM:+0530
TZOFFSETTO:+0530
TZNAME:IST
DTSTART:20220101T000000
END:STANDARD
END:VTIMEZONE
BEGIN:VEVENT
DTSTART;TZID=Asia/Kolkata:20230301T100000
DTEND;TZID=Asia/Kolkata:20230301T130000
DTSTAMP:20260422T030036
CREATED:20240127T012800Z
LAST-MODIFIED:20250703T111618Z
UID:142875-1677664800-1677675600@events.srmap.edu.in
SUMMARY:Treasure Hunt Throws Down Exhilarating Challenge for Students
DESCRIPTION:The Directorate of Student Affairs organised a thrilling and interactive Treasure Hunt aimed at fostering teamwork\, problem-solving\, and analytical skills among students. The event\, which took place across the campus\, provided an engaging platform for students to exercise their intellect and teamwork abilities while fostering a spirit of healthy competition. \nThe event was designed to challenge participants with a series of clues and collaborative tasks that required them to think creatively\, work cohesively in teams\, and decipher clues across the campus. By doing so\, students were able to develop their problem-solving and analytical skills\, as well as their ability to think outside the box. The event successfully created a collaborative atmosphere\, encouraging participants to share ideas and support one another. The challenges\, including riddles and scavenger hunts\, stimulated creative thinking and resourcefulness. Sportsmanship flourished as teams cheered each other on\, promoting a positive and encouraging environment. The competitive element with a time limit added excitement and urgency\, refining participants’ ability to perform under pressure. \nThe event not only provided students with an opportunity to showcase their skills and abilities but also contributed to a holistic learning environment beyond conventional academics. The Treasure Hunt was a resounding success\, with participants expressing their enjoyment and satisfaction with the challenging and rewarding experience. The recognition of the winning team through certificates and trophies reinforced a sense of achievement and motivation.
URL:https://events.srmap.edu.in/event/treasure-hunt-throws-down-exhilarating-challenge-for-students/
CATEGORIES:Events,Students Affairs Events
END:VEVENT
BEGIN:VEVENT
DTSTART;TZID=Asia/Kolkata:20230301T140000
DTEND;TZID=Asia/Kolkata:20230301T160000
DTSTAMP:20260422T030036
CREATED:20240127T042500Z
LAST-MODIFIED:20250703T111317Z
UID:142885-1677679200-1677686400@events.srmap.edu.in
SUMMARY:Trivial Pursuits Quiz Sees Students Team Up for Intellectual Face-Off
DESCRIPTION:The ‘Trivial Pursuits’ quiz competition organised by the Department of Student Affairs and the quiz club provided an engaging platform for students to test their knowledge across various domains. Structured as a collaborative group event\, the quiz aimed to encourage teamwork among participants. Divided into teams\, students racked their brains to answer challenging questions about current affairs\, history\, literature\, science\, and more. \nThe quiz stretched their intellectual horizons as they worked together to tackle diverse topics. The core objectives were to promote knowledge enhancement\, spur intellectual curiosity\, and foster a competitive yet supportive spirit. The group format enabled participants to collaborate and gain insights from each other. The enjoyable\, fast-paced quiz inspired students to continuously improve their knowledge base beyond just academics. Participants displayed competitive flair coupled with camaraderie and sportsmanship.  \nOverall\, the ‘Trivial Pursuits’ quiz succeeded in boosting teamwork\, general knowledge\, and a love for learning among students through an interactive platform.
URL:https://events.srmap.edu.in/event/trivial-pursuits-quiz-sees-students-team-up-for-intellectual-face-off/
CATEGORIES:Events,Students Affairs Events
END:VEVENT
BEGIN:VEVENT
DTSTART;TZID=Asia/Kolkata:20230301T150000
DTEND;TZID=Asia/Kolkata:20230301T170000
DTSTAMP:20260422T030036
CREATED:20240127T015400Z
LAST-MODIFIED:20250703T111536Z
UID:142879-1677682800-1677690000@events.srmap.edu.in
SUMMARY:Unlocking Minds: Cubic Club Hosts Thrilling Cubing Competition
DESCRIPTION:Recognising the untapped potential and cognitive benefits of the iconic puzzle\, the Cubic Club of SRM University-AP hosted a gripping cubing competition on campus. With the primary objective of increasing awareness and interest in solving the Rubik’s Cube puzzle among students\, the event aimed to be inclusive\, catering to participants of varying skill levels. \nThis approach fostered a sense of community beyond the club’s membership\, encouraging students from all walks of life to take part in this mind-bending challenge. The competition unfolded with an air of excitement and anticipation as participants showcased their speed\, agility\, and problem-solving prowess. \nFrom beginners to seasoned cubers\, the event celebrated the diverse talents of the university’s student body\, creating a vibrant and intellectually stimulating atmosphere on campus. The Cubic Club’s commendable efforts not only promoted a popular hobby but also emphasised the cognitive benefits associated with puzzle-solving.  As participants engaged in the Rubik’s Cube challenge\, they exercised their critical thinking\, logical reasoning\, and spatial awareness skills. \nBy organising an inclusive competition that accommodated participants of different skill levels\, the Cubic Club successfully fostered a sense of community and engagement among students. The event served as a reminder that puzzles and challenges can bring people together\, transcending boundaries and forging lasting connections.
URL:https://events.srmap.edu.in/event/unlocking-minds-cubic-club-hosts-thrilling-cubing-competition/
CATEGORIES:Events,Students Affairs Events
END:VEVENT
END:VCALENDAR