BEGIN:VCALENDAR
VERSION:2.0
PRODID:-//SRMAP Events - ECPv6.15.11//NONSGML v1.0//EN
CALSCALE:GREGORIAN
METHOD:PUBLISH
X-WR-CALNAME:SRMAP Events
X-ORIGINAL-URL:https://events.srmap.edu.in
X-WR-CALDESC:Events for SRMAP Events
REFRESH-INTERVAL;VALUE=DURATION:PT1H
X-Robots-Tag:noindex
X-PUBLISHED-TTL:PT1H
BEGIN:VTIMEZONE
TZID:Asia/Kolkata
BEGIN:STANDARD
TZOFFSETFROM:+0530
TZOFFSETTO:+0530
TZNAME:IST
DTSTART:20220101T000000
END:STANDARD
END:VTIMEZONE
BEGIN:VEVENT
DTSTART;TZID=Asia/Kolkata:20230310T173000
DTEND;TZID=Asia/Kolkata:20230310T193000
DTSTAMP:20260422T030035
CREATED:20240130T033300Z
LAST-MODIFIED:20240130T033300Z
UID:142905-1678469400-1678476600@events.srmap.edu.in
SUMMARY:SRM-ites Tune in to the Beats of Dance Night
DESCRIPTION:SRM University-AP offers numerous recreational and co-curricular activities that cater to Students’ non-academic interests; its Dance Club is one such avenue wherein students can unwind from their academic routines and engage in rejuvenating routines. The Dance Club of the varsity\, in collaboration with the Directorate of Student Affairs\, organised Dance Night\, an annual event that offers a refreshing and entertaining experience\, contributing to the overall happiness and satisfaction of the student body. \nThe event witnessed students swaying on a wave of energy and passion by both the members and the audience\, The electrifying performances by the dance club members ignited enthusiasm among the students\, creating an engaging and dynamic atmosphere. The invitation for all students to join in and dance with friends resulted in widespread participation\, fostering a sense of community and camaraderie.
URL:https://events.srmap.edu.in/event/srm-ites-tune-in-to-the-beats-of-dance-night/
CATEGORIES:Events,Students Affairs Events
END:VEVENT
END:VCALENDAR