BEGIN:VCALENDAR
VERSION:2.0
PRODID:-//SRMAP Events - ECPv6.15.11//NONSGML v1.0//EN
CALSCALE:GREGORIAN
METHOD:PUBLISH
X-WR-CALNAME:SRMAP Events
X-ORIGINAL-URL:https://events.srmap.edu.in
X-WR-CALDESC:Events for SRMAP Events
REFRESH-INTERVAL;VALUE=DURATION:PT1H
X-Robots-Tag:noindex
X-PUBLISHED-TTL:PT1H
BEGIN:VTIMEZONE
TZID:Asia/Kolkata
BEGIN:STANDARD
TZOFFSETFROM:+0530
TZOFFSETTO:+0530
TZNAME:IST
DTSTART:20220101T000000
END:STANDARD
END:VTIMEZONE
BEGIN:VEVENT
DTSTART;VALUE=DATE:20230314
DTEND;VALUE=DATE:20230317
DTSTAMP:20260422T030058
CREATED:20240130T034000Z
LAST-MODIFIED:20250703T110454Z
UID:142906-1678752000-1679011199@events.srmap.edu.in
SUMMARY:Film Gala
DESCRIPTION:SRM University-AP hosted a Film Gala\, a two-day entertaining event on March 14 and 15\, 2023. The film fest screened remarkable movies with great cinematography\, screenplay and aesthetic value. The screening also witnessed renowned movie artist Mr Vishwak Sen as its guest. \nThe purpose of the event was to honour cinema and provide an active forum for movie buffs to come together. In addition to watching films\, attendees had the opportunity to enjoy live band performances\, participate in exciting contests\, and connect with other film enthusiasts. The film festival was a huge success\, providing participants with a sense of joy and fulfilment\, as well as creating a lasting memory of shared passion and community. \nThe Gala also provided a platform for interaction\, complemented by delectable food options from diverse stalls. The distribution of prizes celebrated the talents of competition winners\, adding a sense of accomplishment and further enhancing the festival’s allure.
URL:https://events.srmap.edu.in/event/film-gala/
CATEGORIES:Events,Students Affairs Events
END:VEVENT
BEGIN:VEVENT
DTSTART;TZID=Asia/Kolkata:20230315T100000
DTEND;TZID=Asia/Kolkata:20230315T160000
DTSTAMP:20260422T030058
CREATED:20240127T232800Z
LAST-MODIFIED:20250703T110837Z
UID:142895-1678874400-1678896000@events.srmap.edu.in
SUMMARY:Paridhan 2023 - Celebrating Diversity and Cultivating Unity
DESCRIPTION:Immersed in a riot of colours and resplendent traditional attire\, ‘Paridhan’ took centre stage at SRM University-AP\, providing students with a platform to showcase their creativity\, cultural heritage\, and diversity. This cultural extravaganza aimed to promote unity and harmony by fostering active participation in various competitions\, captivating the hearts and minds of the student community. \nThe event’s objective was to create an atmosphere that celebrated India’s rich traditions and encouraged a sense of pride and respect for the diverse cultural heritage among students. ‘Paridhan’ achieved this goal with resounding success\, as students from all houses poured their enthusiasm and talent into the inter-house ramp walk\, music\, and dance performances. \nThe turnout and active participation were nothing short of remarkable. Students adorned in vibrant and mesmerising traditional outfits filled the venue\, exuding a shared appreciation for India’s cultural richness. The event highlighted the beauty of diversity\, showcasing the myriad of traditions that exist within our student community. Beyond the remarkable performances\, ‘Paridhan’ created a strong sense of community and belonging among the students. The event served as a reminder that despite our unique backgrounds\, we are all bound by a common thread of cultural heritage. This shared appreciation fostered a deeper understanding and respect for one another\, strengthening the bonds that unite us. \nTo enhance the festive ambience\, ethnic food stalls were set up\, offering a tantalizing array of culinary delights. The aroma of traditional delicacies wafted through the air\, further immersing attendees in the cultural experience. From mouth-watering street food to tantalising sweets\, the food stalls added an extra layer of enjoyment to the event. \nStay tuned for more exciting events and initiatives as we continue to celebrate our diverse heritage and foster a sense of community that transcends boundaries.
URL:https://events.srmap.edu.in/event/paridhan-2023-celebrating-diversity-and-cultivating-unity/
CATEGORIES:Events,Students Affairs Events
END:VEVENT
END:VCALENDAR